BEGIN:VCALENDAR
VERSION:2.0
PRODID:-//Gravel - ECPv5.8.1//NONSGML v1.0//EN
CALSCALE:GREGORIAN
METHOD:PUBLISH
X-WR-CALNAME:Gravel
X-ORIGINAL-URL:https://www.gravel.it
X-WR-CALDESC:Eventi per Gravel
BEGIN:VTIMEZONE
TZID:Europe/Paris
BEGIN:DAYLIGHT
TZOFFSETFROM:+0100
TZOFFSETTO:+0200
TZNAME:CEST
DTSTART:20260329T010000
END:DAYLIGHT
BEGIN:STANDARD
TZOFFSETFROM:+0200
TZOFFSETTO:+0100
TZNAME:CET
DTSTART:20261025T010000
END:STANDARD
END:VTIMEZONE
BEGIN:VEVENT
DTSTART;VALUE=DATE:20260509
DTEND;VALUE=DATE:20260510
DTSTAMP:20260419T213121
CREATED:20260101T173343Z
LAST-MODIFIED:20260101T173343Z
UID:42090-1778284800-1778371199@www.gravel.it
SUMMARY:Vic Bikepacking
DESCRIPTION:Il meglio del bikepacking concentrato in un solo weekend. Il Giro Bikepacking ti porterà alla scoperta delle Marche più autentiche e meno conosciute\, lungo un percorso che unisce il fascino dell’avventura al piacere della scoperta. La traccia si snoda tra strade sterrate e secondarie\, borghi pittoreschi e paesaggi naturali mozzafiato\, dove si respira il perfetto equilibrio tra selvaggio e rurale.Al termine della prima giornata ti attenderà un campo base accogliente\, completo di area tende o bivacco\, servizi e docce. Dopo aver sistemato la tua postazione\, una cena conviviale e una festa sotto le stelle saranno il modo ideale per celebrare il sabato e condividere esperienze con altri appassionati.Per chi lo desidera\, sarà disponibile un servizio di trasporto bagagli\, che porterà tende\, sacchi a pelo e zaini dalla partenza al campo base e viceversa. La domenica si riparte per tornare al punto di partenza\, dove ci ritroveremo tutti insieme per festeggiare come si deve un weekend di puro bikepacking.
URL:https://www.gravel.it/evento-gravel/vic-bikepacking/
LOCATION:Treia
ATTACH;FMTTYPE=image/jpeg:https://www.gravel.it/wp-content/uploads/2025/07/IMG-20250717-WA0002.jpg
END:VEVENT
END:VCALENDAR