BEGIN:VCALENDAR
VERSION:2.0
PRODID:-//Gravel - ECPv5.8.1//NONSGML v1.0//EN
CALSCALE:GREGORIAN
METHOD:PUBLISH
X-WR-CALNAME:Gravel
X-ORIGINAL-URL:https://www.gravel.it
X-WR-CALDESC:Eventi per Gravel
BEGIN:VTIMEZONE
TZID:Europe/Paris
BEGIN:DAYLIGHT
TZOFFSETFROM:+0100
TZOFFSETTO:+0200
TZNAME:CEST
DTSTART:20260329T010000
END:DAYLIGHT
BEGIN:STANDARD
TZOFFSETFROM:+0200
TZOFFSETTO:+0100
TZNAME:CET
DTSTART:20261025T010000
END:STANDARD
END:VTIMEZONE
BEGIN:VEVENT
DTSTART;VALUE=DATE:20260906
DTEND;VALUE=DATE:20260907
DTSTAMP:20260425T130142
CREATED:20191219T093149Z
LAST-MODIFIED:20260424T191714Z
UID:11258-1788652800-1788739199@www.gravel.it
SUMMARY:Pinocchio Gravel
DESCRIPTION:Le Colline Lucchesi sono una delle denominazioni vinicole più rinomate della Toscana. Vigneti coltivati da secoli\, cantine storiche\, un paesaggio modellato dalla mano dell’uomo in armonia con la natura. Attraversarle in gravel è un modo unico di conoscerle: lento\, rispettoso\, immersivo. Come il vino\, meritano tempo. \nIl 6 settembre 2026\, da Montecarlo di Lucca\, il Pinocchio Gravel porta i ciclisti nel cuore di questo territorio su strade bianche e sterrati che i trattori conoscono meglio delle auto. \nI percorsi \nLungo — 78 km | 863 m D+ \nQuasi ottanta chilometri tra vigneti\, boschi e borghi. Il tracciato che permette di perdersi davvero\, nel senso migliore del termine. \nMedio — 57 km | 826 m D+ \nDistanza ridotta\, dislivello quasi invariato. Le Colline Lucchesi non cedono facilmente\, nemmeno nella versione più corta. \nUn territorio da pedalare lentamente \nNon è una gara contro il cronometro. È un invito a guardare\, a fermarsi\, a capire perché queste colline producono vino da secoli e continuano ad attirare chi cerca qualcosa di autentico. Il gravel è forse il mezzo più onesto per farlo: ti porta dove le auto non arrivano e ti lascia il tempo di accorgerti di quello che ti circonda. \nMontecarlo di Lucca\, con le sue cantine e i suoi vicoli stretti\, è il punto di partenza giusto per una giornata così.
URL:https://www.gravel.it/evento-gravel/pinocchio-gravel/
LOCATION:Montecarlo di Lucca\, Italia
CATEGORIES:Gravel,Vetrina
ATTACH;FMTTYPE=image/png:https://www.gravel.it/wp-content/uploads/2019/12/GRAVEL.png
ORGANIZER;CN="Tuscany%20Legend":MAILTO:Tuscanylegend@pec.it
END:VEVENT
END:VCALENDAR