BEGIN:VCALENDAR
VERSION:2.0
PRODID:-//Gravel - ECPv5.8.1//NONSGML v1.0//EN
CALSCALE:GREGORIAN
METHOD:PUBLISH
X-WR-CALNAME:Gravel
X-ORIGINAL-URL:https://www.gravel.it
X-WR-CALDESC:Eventi per Gravel
BEGIN:VTIMEZONE
TZID:Europe/Paris
BEGIN:DAYLIGHT
TZOFFSETFROM:+0100
TZOFFSETTO:+0200
TZNAME:CEST
DTSTART:20210328T010000
END:DAYLIGHT
BEGIN:STANDARD
TZOFFSETFROM:+0200
TZOFFSETTO:+0100
TZNAME:CET
DTSTART:20211031T010000
END:STANDARD
END:VTIMEZONE
BEGIN:VEVENT
DTSTART;VALUE=DATE:20210327
DTEND;VALUE=DATE:20210328
DTSTAMP:20260424T041535
CREATED:20190123T132355Z
LAST-MODIFIED:20210301T143451Z
UID:8698-1616803200-1616889599@www.gravel.it
SUMMARY:InfernoTrail
DESCRIPTION:
URL:https://www.gravel.it/evento-gravel/infernotrail/
LOCATION:Quarrata
CATEGORIES:Gravel
ATTACH;FMTTYPE=image/jpeg:https://www.gravel.it/wp-content/uploads/2019/01/inferno_trail_anello_rinascimento17-1200x800.jpg
ORGANIZER;CN="Associazione%20Culturale%20C.A.S.T.":MAILTO:infernotrail@florencebiketours.it
END:VEVENT
END:VCALENDAR