BEGIN:VCALENDAR
VERSION:2.0
PRODID:-//Gravel - ECPv5.8.1//NONSGML v1.0//EN
CALSCALE:GREGORIAN
METHOD:PUBLISH
X-WR-CALNAME:Gravel
X-ORIGINAL-URL:https://www.gravel.it
X-WR-CALDESC:Eventi per Gravel
BEGIN:VTIMEZONE
TZID:Europe/Paris
BEGIN:DAYLIGHT
TZOFFSETFROM:+0100
TZOFFSETTO:+0200
TZNAME:CEST
DTSTART:20260329T010000
END:DAYLIGHT
BEGIN:STANDARD
TZOFFSETFROM:+0200
TZOFFSETTO:+0100
TZNAME:CET
DTSTART:20261025T010000
END:STANDARD
END:VTIMEZONE
BEGIN:VEVENT
DTSTART;TZID=Europe/Paris:20260704T080000
DTEND;TZID=Europe/Paris:20260705T170000
DTSTAMP:20260424T143831
CREATED:20251225T131453Z
LAST-MODIFIED:20251225T131453Z
UID:41919-1783152000-1783270800@www.gravel.it
SUMMARY:Gravel Experience GAVIA MORTIROLO
DESCRIPTION:
URL:https://www.gravel.it/evento-gravel/gravel-experience-gavia-mortirolo/
LOCATION:Ponte di Legno
ATTACH;FMTTYPE=image/png:https://www.gravel.it/wp-content/uploads/2025/12/LOGHI-EVENTI-2026-35-1.png
END:VEVENT
END:VCALENDAR