BEGIN:VCALENDAR
VERSION:2.0
PRODID:-//Gravel - ECPv5.8.1//NONSGML v1.0//EN
CALSCALE:GREGORIAN
METHOD:PUBLISH
X-WR-CALNAME:Gravel
X-ORIGINAL-URL:https://www.gravel.it
X-WR-CALDESC:Eventi per Gravel
BEGIN:VTIMEZONE
TZID:Europe/Paris
BEGIN:DAYLIGHT
TZOFFSETFROM:+0100
TZOFFSETTO:+0200
TZNAME:CEST
DTSTART:20240331T010000
END:DAYLIGHT
BEGIN:STANDARD
TZOFFSETFROM:+0200
TZOFFSETTO:+0100
TZNAME:CET
DTSTART:20241027T010000
END:STANDARD
END:VTIMEZONE
BEGIN:VEVENT
DTSTART;VALUE=DATE:20240425
DTEND;VALUE=DATE:20240426
DTSTAMP:20260426T032747
CREATED:20240207T144335Z
LAST-MODIFIED:20240207T144335Z
UID:27937-1714003200-1714089599@www.gravel.it
SUMMARY:Gravel Camonica
DESCRIPTION:
URL:https://www.gravel.it/evento-gravel/gravel-camonica/
LOCATION:Piancogno
CATEGORIES:Gravel
ATTACH;FMTTYPE=image/jpeg:https://www.gravel.it/wp-content/uploads/2024/02/Cattura-7.jpg
ORGANIZER;CN="Gravel%20Camonica":MAILTO:info@gravelcamonica.it
END:VEVENT
END:VCALENDAR