BEGIN:VCALENDAR
VERSION:2.0
PRODID:-//Gravel - ECPv5.8.1//NONSGML v1.0//EN
CALSCALE:GREGORIAN
METHOD:PUBLISH
X-WR-CALNAME:Gravel
X-ORIGINAL-URL:https://www.gravel.it
X-WR-CALDESC:Eventi per Gravel
BEGIN:VTIMEZONE
TZID:Europe/Paris
BEGIN:DAYLIGHT
TZOFFSETFROM:+0100
TZOFFSETTO:+0200
TZNAME:CEST
DTSTART:20250330T010000
END:DAYLIGHT
BEGIN:STANDARD
TZOFFSETFROM:+0200
TZOFFSETTO:+0100
TZNAME:CET
DTSTART:20251026T010000
END:STANDARD
END:VTIMEZONE
BEGIN:VEVENT
DTSTART;VALUE=DATE:20251005
DTEND;VALUE=DATE:20251006
DTSTAMP:20260422T115312
CREATED:20220902T080034Z
LAST-MODIFIED:20250913T164339Z
UID:21299-1759622400-1759708799@www.gravel.it
SUMMARY:ERRATICO Gravel
DESCRIPTION:L’appuntamento per gli amanti del ciclismo è fissato per il 5 ottobre 2025 con “Erratico Gravel – Alla scoperta del Canavese”\, un evento cicloturistico unsupported che si snoda tra gli scenari unici dell’Anfiteatro Morenico di Ivrea\, il più significativo anfiteatro glaciale d’Europa.Questa non è una gara: nessun tratto è cronometrato e i percorsi non sono segnalati\, per lasciare ai partecipanti la libertà di vivere questa avventura in completa autonomia e all’insegna del divertimento\, immersi tra laghi\, boschi\, carrarecce e borghi ricchi di storia e architettura.La partenza e l’arrivo sono entrambi situati nella nuova location di Piazza Castello ad Agliè (TO). I tre percorsi studiati per gravel\, ciclocross\, mountain bike e e-bike con ruote adeguate si distinguono per lunghezza e dislivello: \n \n41 km con 470 metri di dislivello \n \n78 km con 880 metri di dislivello \n \n138 km con 2.100 metri di dislivello \n  \nGli orari di partenza sono differenziati: medio e lungo percorso dalle 7:00 alle 9:00\, percorso corto dalle 10:00. Sono a disposizione servizi come parcheggio e docce all’arrivo per garantire comfort ai partecipanti.L’iscrizione costa 25€ fino al 20 settembre\, poi 35€ fino alla data dell’evento. Per gruppi di almeno 5 persone è previsto uno sconto speciale\, da richiedere via mail. \nCon l’iscrizione sono inclusi:\n-Le tracce GPX dei tre percorsi \n-Un buono per la colazione \n-Ristori durante il percorso \n-Il pacco gara con prodotti tipici locali e materiale tecnico dagli sponsor \n-Un buono per partecipare all’agnolotto party finale in piazza \nUna giornata ideale per chi ama pedalare tra natura\, storia e panorami unici senza ansie da cronometro\, in una cornice spettacolare come quella del Canavese e del suo anfiteatro morenico. Un invito aperto a tutte le bici “gravel friendly” e a chi vuole scoprire un territorio straordinario da vivere in sella.
URL:https://www.gravel.it/evento-gravel/erratico-gravel/
LOCATION:Agliè\, Piazza del Castello
CATEGORIES:Gravel
ATTACH;FMTTYPE=image/jpeg:https://www.gravel.it/wp-content/uploads/2022/09/Screenshot_20250913_183640_Chrome-e1757781646169.jpg
ORGANIZER;CN="Erratico%20Gravel":MAILTO:info@erraticogravel.it
END:VEVENT
END:VCALENDAR