BEGIN:VCALENDAR
VERSION:2.0
PRODID:-//Gravel - ECPv5.8.1//NONSGML v1.0//EN
CALSCALE:GREGORIAN
METHOD:PUBLISH
X-WR-CALNAME:Gravel
X-ORIGINAL-URL:https://www.gravel.it
X-WR-CALDESC:Eventi per Gravel
BEGIN:VTIMEZONE
TZID:Europe/Paris
BEGIN:DAYLIGHT
TZOFFSETFROM:+0100
TZOFFSETTO:+0200
TZNAME:CEST
DTSTART:20260329T010000
END:DAYLIGHT
BEGIN:STANDARD
TZOFFSETFROM:+0200
TZOFFSETTO:+0100
TZNAME:CET
DTSTART:20261025T010000
END:STANDARD
END:VTIMEZONE
BEGIN:VEVENT
DTSTART;TZID=Europe/Paris:20260418T080000
DTEND;TZID=Europe/Paris:20260419T170000
DTSTAMP:20260424T080859
CREATED:20260104T143253Z
LAST-MODIFIED:20260104T143253Z
UID:42291-1776499200-1776618000@www.gravel.it
SUMMARY:Bromscape
DESCRIPTION:  \nUn fine settimana dedicato all’avventura\, alla scoperta e alla libertà su due ruote. Con la tua Brompton\, pieghevole e robusta\, vivrai un’esperienza che unisce il piacere dell’esplorazione alla soddisfazione di viaggiare in autonomia\, attraversando paesaggi naturali e percorsi ciclabili tra pianura\, colline e borghi del torinese.La filosofia è semplice: self-supported. Nessuna assistenza\, nessun vincolo di orario\, solo tu\, la tua bicicletta e la voglia di metterti in gioco. Ogni chilometro sarà una scoperta\, un piccolo passo verso un modo diverso di intendere il viaggio\, dove contano la libertà\, la curiosità e la condivisione.Bromscape propone quattro diverse distanze\, pensate per offrire a ciascun partecipante l’esperienza più adatta al proprio livello. Il percorso da 50 chilometri è perfetto per chi desidera un assaggio del bikepacking in totale relax. Quello da 100 chilometri unisce città\, natura e una sana dose di esplorazione. \n  \nI 200 chilometri rappresentano una sfida più intensa\, ideale per chi ama la gestione autonoma del viaggio e i ritmi lunghi. Infine\, il tracciato da 300 chilometri è dedicato agli spiriti più avventurosi\, pronti a cimentarsi in un’esperienza endurance tra strade panoramiche e tratti sterrati.Le formule Commute e Loop rendono l’esperienza flessibile e accessibile a tutti. Puoi scegliere di completare l’intero percorso oppure fermarti lungo il tragitto e rientrare comodamente in treno o con il mezzo che preferisci. Ti basta piegare la tua Brompton\, pronta a seguirti ovunque e a trasformare ogni spostamento in una nuova opportunità di scoperta.Piccole ruote\, grandi sfide. La Brompton è una compagna di viaggio affidabile e sorprendente: perfetta per la vita di tutti i giorni\, ma anche ideale per chi non rinuncia all’avventura su due ruote. Bromscape è il modo migliore per metterla alla prova e vivere un’esperienza diversa\, autentica e indimenticabile.
URL:https://www.gravel.it/evento-gravel/bromscape/
LOCATION:Moncalieri
ATTACH;FMTTYPE=image/webp:https://www.gravel.it/wp-content/uploads/2026/01/bromscape-immagine-anteprima-1200x900-1.webp
END:VEVENT
END:VCALENDAR