BEGIN:VCALENDAR
VERSION:2.0
PRODID:-//Gravel - ECPv5.8.1//NONSGML v1.0//EN
CALSCALE:GREGORIAN
METHOD:PUBLISH
X-WR-CALNAME:Gravel
X-ORIGINAL-URL:https://www.gravel.it
X-WR-CALDESC:Eventi per Gravel
BEGIN:VTIMEZONE
TZID:Europe/Paris
BEGIN:DAYLIGHT
TZOFFSETFROM:+0100
TZOFFSETTO:+0200
TZNAME:CEST
DTSTART:20260329T010000
END:DAYLIGHT
BEGIN:STANDARD
TZOFFSETFROM:+0200
TZOFFSETTO:+0100
TZNAME:CET
DTSTART:20261025T010000
END:STANDARD
END:VTIMEZONE
BEGIN:VEVENT
DTSTART;TZID=Europe/Paris:20260911T000000
DTEND;TZID=Europe/Paris:20260913T235900
DTSTAMP:20260424T171106
CREATED:20190320T132724Z
LAST-MODIFIED:20260103T161901Z
UID:10400-1789084800-1789343940@www.gravel.it
SUMMARY:150 S-Miles
DESCRIPTION:
URL:https://www.gravel.it/evento-gravel/150-s-miles/
LOCATION:Chiusa San Michele
CATEGORIES:Gravel
ATTACH;FMTTYPE=image/jpeg:https://www.gravel.it/wp-content/uploads/2024/08/NUOVA-BMC-URS-3-1024x576-1.jpg
END:VEVENT
END:VCALENDAR