BEGIN:VCALENDAR
VERSION:2.0
PRODID:-//Gravel - ECPv5.8.1//NONSGML v1.0//EN
CALSCALE:GREGORIAN
METHOD:PUBLISH
X-WR-CALNAME:Gravel
X-ORIGINAL-URL:https://www.gravel.it
X-WR-CALDESC:Eventi per Gravel
BEGIN:VTIMEZONE
TZID:Europe/Paris
BEGIN:DAYLIGHT
TZOFFSETFROM:+0100
TZOFFSETTO:+0200
TZNAME:CEST
DTSTART:20260329T010000
END:DAYLIGHT
BEGIN:STANDARD
TZOFFSETFROM:+0200
TZOFFSETTO:+0100
TZNAME:CET
DTSTART:20261025T010000
END:STANDARD
END:VTIMEZONE
BEGIN:VEVENT
DTSTART;VALUE=DATE:20260503
DTEND;VALUE=DATE:20260504
DTSTAMP:20260424T102746
CREATED:20260101T172914Z
LAST-MODIFIED:20260101T172914Z
UID:42086-1777766400-1777852799@www.gravel.it
SUMMARY:100km e 10 castelli
DESCRIPTION:
URL:https://www.gravel.it/evento-gravel/100km-e-10-castelli/
LOCATION:Orzinuovi\, Orzinuovi                            \, Brescia\, Italia
ATTACH;FMTTYPE=image/jpeg:https://www.gravel.it/wp-content/uploads/2025/07/IMG-20250717-WA0002.jpg
ORGANIZER;CN="100km%20e%2010%20castelli":MAILTO:info@gscroceverdeorzinuovi.it
END:VEVENT
END:VCALENDAR