BEGIN:VCALENDAR
VERSION:2.0
PRODID:-//Gravel - ECPv5.8.1//NONSGML v1.0//EN
CALSCALE:GREGORIAN
METHOD:PUBLISH
X-WR-CALNAME:Gravel
X-ORIGINAL-URL:https://www.gravel.it
X-WR-CALDESC:Eventi per Gravel
BEGIN:VTIMEZONE
TZID:Europe/Paris
BEGIN:DAYLIGHT
TZOFFSETFROM:+0100
TZOFFSETTO:+0200
TZNAME:CEST
DTSTART:20260329T010000
END:DAYLIGHT
BEGIN:STANDARD
TZOFFSETFROM:+0200
TZOFFSETTO:+0100
TZNAME:CET
DTSTART:20261025T010000
END:STANDARD
END:VTIMEZONE
BEGIN:VEVENT
DTSTART;VALUE=DATE:20260725
DTEND;VALUE=DATE:20260726
DTSTAMP:20260425T155710
CREATED:20230617T130657Z
LAST-MODIFIED:20251225T131150Z
UID:25389-1784937600-1785023999@www.gravel.it
SUMMARY:Gravel di Luna Piena
DESCRIPTION:
URL:https://www.gravel.it/evento-gravel/gravel-di-luna-piena/
LOCATION:Rocca Sforzesca di Soncino
CATEGORIES:Gravel
ATTACH;FMTTYPE=image/jpeg:https://www.gravel.it/wp-content/uploads/2023/02/332375774_593042982333034_345049408036081344_n.jpg
END:VEVENT
BEGIN:VEVENT
DTSTART;VALUE=DATE:20260725
DTEND;VALUE=DATE:20260726
DTSTAMP:20260425T155710
CREATED:20260103T110310Z
LAST-MODIFIED:20260103T110310Z
UID:42194-1784937600-1785023999@www.gravel.it
SUMMARY:RANDONNEE DU MONTBLANC
DESCRIPTION:Randonnee du Mont Blanc non è una semplice pedalata: è un viaggio attraverso il cuore delle Alpi. Organizzata da EPICDAYS\, questa avventura ciclistica celebra la passione per la scoperta e la libertà su due ruote. Senza spirito competitivo\, ma con tanta voglia di esplorare\, ti porterà a compiere il giro del maestoso massiccio del Monte Bianco\, tra panorami che lasciano senza fiato e natura incontaminata. \n  \nPotrai scegliere il percorso più adatto al tuo spirito: \n  \n\n30 km / 800 m D+\, ideale per chi vuole assaporare l’esperienza in modo tranquillo e panoramico;\n\n  \n\n50 km / 1500 m D+\, un’avventura sportiva che unisce fatica e divertimento;\n\n  \n\n100 km / 3000 m D+\, la sfida per chi sogna di spingersi oltre\, sconfinando in Francia prima di tornare in Italia tra vallate\, borghi alpini e passi leggendari.\n\n  \nOgni tracciato racconta una storia diversa\, ma tutti condividono la stessa promessa: farti vivere l’emozione autentica del ciclismo d’altura\, in uno degli scenari più spettacolari d’Europa.
URL:https://www.gravel.it/evento-gravel/randonnee-du-montblanc/
LOCATION:Courmayeur\, Courmayeur                            \, Aosta\, Italia
CATEGORIES:Gravel
ATTACH;FMTTYPE=image/jpeg:https://www.gravel.it/wp-content/uploads/2026/01/logo-rmb25-prodotto-1.jpg
ORGANIZER;CN="RANDONNEE%20DU%20MONTBLANC":MAILTO:info@epicdays.cc
END:VEVENT
END:VCALENDAR