BEGIN:VCALENDAR
VERSION:2.0
PRODID:-//Gravel - ECPv5.8.1//NONSGML v1.0//EN
CALSCALE:GREGORIAN
METHOD:PUBLISH
X-WR-CALNAME:Gravel
X-ORIGINAL-URL:https://www.gravel.it
X-WR-CALDESC:Eventi per Gravel
BEGIN:VTIMEZONE
TZID:Europe/Paris
BEGIN:DAYLIGHT
TZOFFSETFROM:+0100
TZOFFSETTO:+0200
TZNAME:CEST
DTSTART:20260329T010000
END:DAYLIGHT
BEGIN:STANDARD
TZOFFSETFROM:+0200
TZOFFSETTO:+0100
TZNAME:CET
DTSTART:20261025T010000
END:STANDARD
END:VTIMEZONE
BEGIN:VEVENT
DTSTART;TZID=Europe/Paris:20260710T000000
DTEND;TZID=Europe/Paris:20260711T235900
DTSTAMP:20260424T194503
CREATED:20220212T143306Z
LAST-MODIFIED:20260101T191159Z
UID:18197-1783641600-1783814340@www.gravel.it
SUMMARY:Sporftul Dolomiti Gravel
DESCRIPTION:
URL:https://www.gravel.it/evento-gravel/sporftul-dolomiti-gravel/
LOCATION:Feltre
CATEGORIES:Gravel
ATTACH;FMTTYPE=image/jpeg:https://www.gravel.it/wp-content/uploads/2022/02/Cattura-24-e1735753149567.jpg
ORGANIZER;CN="Sportful%20Dolomiti%20Gravel":MAILTO:info@sportfuldolomitirace.it
END:VEVENT
END:VCALENDAR