BEGIN:VCALENDAR
VERSION:2.0
PRODID:-//Gravel - ECPv5.8.1//NONSGML v1.0//EN
CALSCALE:GREGORIAN
METHOD:PUBLISH
X-WR-CALNAME:Gravel
X-ORIGINAL-URL:https://www.gravel.it
X-WR-CALDESC:Eventi per Gravel
BEGIN:VTIMEZONE
TZID:Europe/Paris
BEGIN:DAYLIGHT
TZOFFSETFROM:+0100
TZOFFSETTO:+0200
TZNAME:CEST
DTSTART:20260329T010000
END:DAYLIGHT
BEGIN:STANDARD
TZOFFSETFROM:+0200
TZOFFSETTO:+0100
TZNAME:CET
DTSTART:20261025T010000
END:STANDARD
END:VTIMEZONE
BEGIN:VEVENT
DTSTART;VALUE=DATE:20260704
DTEND;VALUE=DATE:20260706
DTSTAMP:20260424T130558
CREATED:20251118T180322Z
LAST-MODIFIED:20251118T180322Z
UID:41337-1783123200-1783295999@www.gravel.it
SUMMARY:GAVIA MORTIROLO GRAVEL EXPERIENCE
DESCRIPTION:Un Nuovo Format di BOOST EVENTS\nScopri il fascino della montagna in sella alla tua gravel con Gavia Mortirolo Gravel\, il nuovo format firmato BOOST EVENTS.\nDue giorni di avventura tra passi iconici\, panorami mozzafiato e strade bianche\, pensati per chi ama pedalare tra sport\, natura e adrenalina.\nL’evento prevede:\n2 giorni di gravel immersi tra le montagne\nNotte in quota per vivere l’esperienza al massimo\nSalita con la cabinovia per godersi il panorama e risparmiare energie per il divertimento\nUn’occasione unica per vivere la montagna in modo autentico\, condividere la passione per la bici e scoprire luoghi che rimangono nel cuore.
URL:https://www.gravel.it/evento-gravel/gavia-mortirolo-gravel-experience/
LOCATION:Ponte di Legno
ATTACH;FMTTYPE=image/jpeg:https://www.gravel.it/wp-content/uploads/2025/11/PHOTO-2025-11-18-09-22-05.jpg
END:VEVENT
BEGIN:VEVENT
DTSTART;VALUE=DATE:20260704
DTEND;VALUE=DATE:20260705
DTSTAMP:20260424T130558
CREATED:20260101T190353Z
LAST-MODIFIED:20260101T190524Z
UID:42160-1783123200-1783209599@www.gravel.it
SUMMARY:Gravel Race Specialized
DESCRIPTION:La Gravel Race Specialized 2026 è molto più di una gara: è un’esperienza d’alta quota\, un viaggio sulle strade più panoramiche e leggendarie delle Alpi piemontesi. Una sfida nata per completare il mondo gravel con un tocco di epica\, immersa tra i paesaggi mozzafiato che dividono la Val di Susa e la Val Chisone\, spingendosi fino oltre i 2.500 metri di altitudine.Questo evento prende vita grazie a un territorio unico\, modellato dal tempo e dalla storia. Le antiche fortificazioni militari\, costruite a difesa delle vette\, hanno lasciato in eredità strade di montagna spettacolari: tra queste\, la mitica Strada dell’Assietta\, che i partecipanti percorreranno fino all’arrivo di Sestriere\, in un crescendo di panorami e altitudine.L’evento è pensato per ciclisti puri\, amanti della fatica e della libertà. Sono ammesse biciclette con ruote da 27\,5 o 28 pollici\, mentre non sono consentite mountain bike\, e-bike o biciclette a pedalata assistita. \n  \nOgni manubrio è benvenuto\, purché privo di barends o estensioni\, nel rispetto dell’essenza più autentica del gravel.La filosofia dell’evento è semplice: niente regole rigide\, solo strada e passione. La scelta della gommatura è libera\, ma per affrontare al meglio il terreno montano si consiglia uno pneumatico da almeno 40 mm con tassello.La Gravel Race Specialized è una manifestazione a carattere ciclosportivo: il rispetto del Codice della Strada è obbligatorio\, e i partecipanti dovranno seguire la traccia GPX ufficiale. Il percorso sarà segnalato\, ma non presidiato\, per sottolineare il valore della responsabilità e dell’autosufficienza del vero gravel rider.Un unico tracciato\, una grande avventura: 63 km e 1.870 metri di dislivello positivo\, la Gravel Race Marathon\, da vivere tutta d’un fiato\, pedalata dopo pedalata\, in un ambiente dove ogni salita racconta la montagna e ogni vista allarga l’orizzonte. \n 
URL:https://www.gravel.it/evento-gravel/gravel-race-specialize/
LOCATION:Sestriere\, Sestriere\, Torino\, Italia
ATTACH;FMTTYPE=image/png:https://www.gravel.it/wp-content/uploads/2026/01/Gravel-Race.png
ORGANIZER;CN="Gravel%20Race%20Specialized":MAILTO:info@gravelrace.it
END:VEVENT
BEGIN:VEVENT
DTSTART;TZID=Europe/Paris:20260704T080000
DTEND;TZID=Europe/Paris:20260705T170000
DTSTAMP:20260424T130558
CREATED:20211117T142243Z
LAST-MODIFIED:20251101T173442Z
UID:16727-1783152000-1783270800@www.gravel.it
SUMMARY:Umbria bikepacking.
DESCRIPTION:
URL:https://www.gravel.it/evento-gravel/umbria-bikepacking/
LOCATION:Foligno
CATEGORIES:Gravel
ATTACH;FMTTYPE=image/jpeg:https://www.gravel.it/wp-content/uploads/2021/11/Cattura-14.jpg
ORGANIZER;CN="Umbria%20Bikepacking%20A.S.D.":MAILTO:info@umbriabikepacking.it
END:VEVENT
BEGIN:VEVENT
DTSTART;TZID=Europe/Paris:20260704T080000
DTEND;TZID=Europe/Paris:20260705T170000
DTSTAMP:20260424T130558
CREATED:20220119T150113Z
LAST-MODIFIED:20260101T191005Z
UID:17728-1783152000-1783270800@www.gravel.it
SUMMARY:Augh Gravel
DESCRIPTION:Due giorni per staccare da tutto e immergersi nel cuore selvaggio dell’Appennino Umbro. Qui il tempo rallenta\, la natura diventa compagna di viaggio e la bici il mezzo per riscoprire libertà ed emozioni autentiche. Si pedala su percorsi off-road spettacolari\, tra boschi e crinali\, ci si ferma in villaggio\, si pianta la tenda\, si mangia insieme e la sera il fuoco\, la musica e la compagnia fanno il resto.L’esperienza prevede due percorsi\, diversi ma ugualmente intensi. \nTraccia Peyote: 180 km e 4.500 metri di dislivello\, per chi cerca la sfida completa e vuole vivere la montagna senza filtri\, tra salite lunghe\, discese tecniche e panorami infiniti. \nTraccia Calumet: 150 km e 3.400 metri di dislivello\, ideale per chi ama l’avventura ma con un ritmo più rilassato\, tra tratti immersi nei boschi e scorci che tolgono il fiato.È più di un evento: è un rito collettivo di libertà\, convivialità e scoperta. Preparati a vivere due giorni di bike\, natura e sorrisi\, dove ciò che conta non è arrivare per primi\, ma lasciarsi andare al viaggio.
URL:https://www.gravel.it/evento-gravel/augh-gravel/
LOCATION:Foligno
CATEGORIES:Gravel
ATTACH;FMTTYPE=image/png:https://www.gravel.it/wp-content/uploads/2022/01/Augh.png
ORGANIZER;CN="Umbria%20Bikepacking%20A.S.D.":MAILTO:info@umbriabikepacking.it
END:VEVENT
BEGIN:VEVENT
DTSTART;TZID=Europe/Paris:20260704T080000
DTEND;TZID=Europe/Paris:20260705T170000
DTSTAMP:20260424T130558
CREATED:20251225T131453Z
LAST-MODIFIED:20251225T131453Z
UID:41919-1783152000-1783270800@www.gravel.it
SUMMARY:Gravel Experience GAVIA MORTIROLO
DESCRIPTION:
URL:https://www.gravel.it/evento-gravel/gravel-experience-gavia-mortirolo/
LOCATION:Ponte di Legno
ATTACH;FMTTYPE=image/png:https://www.gravel.it/wp-content/uploads/2025/12/LOGHI-EVENTI-2026-35-1.png
END:VEVENT
END:VCALENDAR