BEGIN:VCALENDAR
VERSION:2.0
PRODID:-//Gravel - ECPv5.8.1//NONSGML v1.0//EN
CALSCALE:GREGORIAN
METHOD:PUBLISH
X-WR-CALNAME:Gravel
X-ORIGINAL-URL:https://www.gravel.it
X-WR-CALDESC:Eventi per Gravel
BEGIN:VTIMEZONE
TZID:Europe/Paris
BEGIN:DAYLIGHT
TZOFFSETFROM:+0100
TZOFFSETTO:+0200
TZNAME:CEST
DTSTART:20260329T010000
END:DAYLIGHT
BEGIN:STANDARD
TZOFFSETFROM:+0200
TZOFFSETTO:+0100
TZNAME:CET
DTSTART:20261025T010000
END:STANDARD
END:VTIMEZONE
BEGIN:VEVENT
DTSTART;VALUE=DATE:20260619
DTEND;VALUE=DATE:20260627
DTSTAMP:20260424T130722
CREATED:20191224T135131Z
LAST-MODIFIED:20251101T173043Z
UID:11318-1781827200-1782518399@www.gravel.it
SUMMARY:Abruzzo Trail
DESCRIPTION:
URL:https://www.gravel.it/evento-gravel/abruzzo-trail/
LOCATION:Roseto degli Abruzzi
CATEGORIES:Gravel
ATTACH;FMTTYPE=image/jpeg:https://www.gravel.it/wp-content/uploads/2019/12/Cattura-9-e1701092231704.jpg
ORGANIZER;CN="Abruzzo%20Trail%20Mags%20Experience":MAILTO:info@gransassotrail.com
END:VEVENT
BEGIN:VEVENT
DTSTART;VALUE=DATE:20260620
DTEND;VALUE=DATE:20260621
DTSTAMP:20260424T130722
CREATED:20260101T184956Z
LAST-MODIFIED:20260101T184956Z
UID:42146-1781913600-1781999999@www.gravel.it
SUMMARY:Chase the Sun
DESCRIPTION:Chase the Sun Italia 2026 è molto più di una semplice pedalata. È un viaggio che attraversa l’Italia da costa a costa\, inseguendo il sole dall’alba al tramonto\, da est a ovest\, nel giorno più lungo dell’anno. Da Cesenatico a Tirrenia\, dalla Riviera Romagnola al mare toscano\, si vive un’esperienza che fonde sport\, paesaggio e spirito di scoperta.Si parte alle prime luci del giorno dal porto-canale di Cesenatico\, ideato da Leonardo da Vinci\, e ci si immerge subito nell’atmosfera speciale di questa impresa collettiva. Le prime salite portano verso l’Appennino tosco-romagnolo fino a Premilcuore\, la porta delle Foreste Casentinesi\, per poi raggiungere il Valico dei Tre Faggi. \n  \nAl bar Cavallino\, il punto di riferimento di tutti i partecipanti\, una gustosa focaccia segna il passaggio verso la discesa\, simbolo di libertà e di leggerezza\, quella che solo la bici sa regalare.Il percorso continua lungo la piccola strada del Chianti tra Rufina e Pontassieve\, attraversa Firenze e il suo Ponte Vecchio\, raggiunge le foreste di Staffoli e la Certosa di Calci\, e prosegue verso l’incredibile bellezza di Piazza dei Miracoli a Pisa. \n  \nGli ultimi chilometri scorrono davanti alla basilica di San Piero a Grado e lungo la foce dell’Arno a Marina di Pisa\, prima di concludersi sulla spiaggia di Tirrenia\, proprio mentre il sole si tuffa nel mare.Chase the Sun Italia non è una gara\, ma un rito collettivo\, un attraversamento dell’Italia e di se stessi. È la celebrazione di un giorno unico\, della luce\, della strada e del piacere di pedalare insieme\, spinti solo dal desiderio di non fermarsi finché il sole non scompare all’orizzonte.
URL:https://www.gravel.it/evento-gravel/chase-the-sun/
LOCATION:Cesenatico\, Cesenatico                            \, Forla - Cesena\, Italia
ATTACH;FMTTYPE=image/png:https://www.gravel.it/wp-content/uploads/2026/01/Chase-the-sun.png
END:VEVENT
BEGIN:VEVENT
DTSTART;TZID=Europe/Paris:20260620T080000
DTEND;TZID=Europe/Paris:20260621T170000
DTSTAMP:20260424T130722
CREATED:20251225T131017Z
LAST-MODIFIED:20251225T131017Z
UID:41915-1781942400-1782061200@www.gravel.it
SUMMARY:Orme Camune bike festival
DESCRIPTION:
URL:https://www.gravel.it/evento-gravel/orme-camune-bike-festival/
LOCATION:Breno
CATEGORIES:Gravel
ATTACH;FMTTYPE=image/png:https://www.gravel.it/wp-content/uploads/2025/12/ORME-CAMUNE-FESTIVAL-GRAVEL-BOOST-EVENTS.png
END:VEVENT
BEGIN:VEVENT
DTSTART;TZID=Europe/Paris:20260620T173000
DTEND;TZID=Europe/Paris:20260621T180000
DTSTAMP:20260424T130722
CREATED:20190321T132934Z
LAST-MODIFIED:20251227T180055Z
UID:10438-1781976600-1782064800@www.gravel.it
SUMMARY:161miglia dal Tramonto all’Alba
DESCRIPTION:
URL:https://www.gravel.it/evento-gravel/161miglia-dal-tramonto-allalba/
LOCATION:Jesolo\, Jesolo\, Venezia\, Italia
CATEGORIES:Gravel
ATTACH;FMTTYPE=image/jpeg:https://www.gravel.it/wp-content/uploads/2019/03/Cattura-19-e1637678076675.jpg
ORGANIZER;CN="VILLA%20GIULIA%20RELAIS%20%26%20SPA":MAILTO:info@asdlagunabike.it
END:VEVENT
END:VCALENDAR