BEGIN:VCALENDAR
VERSION:2.0
PRODID:-//Gravel - ECPv5.8.1//NONSGML v1.0//EN
CALSCALE:GREGORIAN
METHOD:PUBLISH
X-WR-CALNAME:Gravel
X-ORIGINAL-URL:https://www.gravel.it
X-WR-CALDESC:Eventi per Gravel
BEGIN:VTIMEZONE
TZID:Europe/Paris
BEGIN:DAYLIGHT
TZOFFSETFROM:+0100
TZOFFSETTO:+0200
TZNAME:CEST
DTSTART:20260329T010000
END:DAYLIGHT
BEGIN:STANDARD
TZOFFSETFROM:+0200
TZOFFSETTO:+0100
TZNAME:CET
DTSTART:20261025T010000
END:STANDARD
END:VTIMEZONE
BEGIN:VEVENT
DTSTART;TZID=Europe/Paris:20260612T080000
DTEND;TZID=Europe/Paris:20260613T170000
DTSTAMP:20260424T130824
CREATED:20220401T124335Z
LAST-MODIFIED:20251101T172421Z
UID:19032-1781251200-1781370000@www.gravel.it
SUMMARY:Terre Dei Nobili
DESCRIPTION:
URL:https://www.gravel.it/evento-gravel/terre-dei-nobili/
LOCATION:Padova
CATEGORIES:Gravel
ATTACH;FMTTYPE=image/jpeg:https://www.gravel.it/wp-content/uploads/2022/04/Cattura-7.jpg
ORGANIZER;CN="A.C.D.%20Pedali%20di%20Marca":MAILTO:info@terrenobili.bike
END:VEVENT
BEGIN:VEVENT
DTSTART;TZID=Europe/Paris:20260612T080000
DTEND;TZID=Europe/Paris:20260614T170000
DTSTAMP:20260424T130824
CREATED:20240210T140544Z
LAST-MODIFIED:20251101T172323Z
UID:28026-1781251200-1781456400@www.gravel.it
SUMMARY:Inchino al Friuli
DESCRIPTION:
URL:https://www.gravel.it/evento-gravel/inchino-al-friuli/
LOCATION:Artegna
CATEGORIES:Gravel
ATTACH;FMTTYPE=image/png:https://www.gravel.it/wp-content/uploads/2024/02/Cattura-1-e1762017783805.png
ORGANIZER;CN="Inchino%20al%20Friuli":MAILTO:info.inchinoalfriuli@gmail.com
END:VEVENT
BEGIN:VEVENT
DTSTART;TZID=Europe/Paris:20260612T080000
DTEND;TZID=Europe/Paris:20260614T170000
DTSTAMP:20260424T130824
CREATED:20250101T144102Z
LAST-MODIFIED:20251101T172207Z
UID:33070-1781251200-1781456400@www.gravel.it
SUMMARY:Stradembrecciade
DESCRIPTION:
URL:https://www.gravel.it/evento-gravel/stradembrecciade/
LOCATION:Filottrano
CATEGORIES:Gravel
ATTACH;FMTTYPE=image/jpeg:https://www.gravel.it/wp-content/uploads/2025/01/WhatsApp-Image-2024-11-01-at-06.38.54-e1762017702284.jpg
ORGANIZER;CN="Strade%20Mbrecciade":MAILTO:stradembrecciate@gmail.com
END:VEVENT
BEGIN:VEVENT
DTSTART;TZID=Europe/Paris:20260612T080000
DTEND;TZID=Europe/Paris:20260613T170000
DTSTAMP:20260424T130824
CREATED:20260101T183554Z
LAST-MODIFIED:20260101T183554Z
UID:42141-1781251200-1781370000@www.gravel.it
SUMMARY:Strade Mbrecciate bikepacking - Borghi e Castelli
DESCRIPTION:La nostra proposta di viaggio in autonomia torna nel 2026 con un’esperienza che attraversa i borghi e i castelli più autentici della Marca\, luoghi intrisi di fascino\, silenzio e profumi antichi. È un percorso pensato per chi\, come noi\, sa emozionarsi pedalando\, lasciandosi guidare dalla curiosità e dal ritmo lento delle ruote su strade dimenticate dal tempo.Due formule di bikepacking per vivere la tua avventura come preferisci: \n330 km per chi vuole immergersi completamente nell’esperienza\, oppure 240 km per chi cerca un viaggio più contenuto ma altrettanto intenso.Le partenze saranno dal Campo Base di Filottrano (AN): \nVenerdì 12 giugno 2026 per il percorso da 330 km. \nSabato 13 giugno 2026 per il percorso da 240 km. \nI tracciati sono stati disegnati per portarti lontano dal traffico e vicino all’anima vera del territorio: strade bianche che si perdono tra colline\, sterrati ondulati\, mulattiere pedalabili\, e sentieri che collegano antichi borghi ancora custodi di autenticità.Là fuori non troverai solo salite e panorami\, ma fiumi\, ruscelli\, pascoli e tutta la musica della natura che accompagnerà ogni tua pedalata. Sarà una di quelle avventure che non si dimenticano facilmente: autentica\, intensa e\, soprattutto\, tua.
URL:https://www.gravel.it/evento-gravel/strade-mbrecciate-bikepacking-borghi-e-castelli/
LOCATION:Filottrano
ATTACH;FMTTYPE=image/jpeg:https://www.gravel.it/wp-content/uploads/2026/01/462546482_799710755519982_1232858475769377579_n.jpg
ORGANIZER;CN="Strade%20Mbrecciate%20bikepacking%20-%20Borghi%20e%20Castelli":MAILTO:stradembrecciate@gmail.com
END:VEVENT
END:VCALENDAR