BEGIN:VCALENDAR
VERSION:2.0
PRODID:-//Gravel - ECPv5.8.1//NONSGML v1.0//EN
CALSCALE:GREGORIAN
METHOD:PUBLISH
X-WR-CALNAME:Gravel
X-ORIGINAL-URL:https://www.gravel.it
X-WR-CALDESC:Eventi per Gravel
BEGIN:VTIMEZONE
TZID:Europe/Paris
BEGIN:DAYLIGHT
TZOFFSETFROM:+0100
TZOFFSETTO:+0200
TZNAME:CEST
DTSTART:20260329T010000
END:DAYLIGHT
BEGIN:STANDARD
TZOFFSETFROM:+0200
TZOFFSETTO:+0100
TZNAME:CET
DTSTART:20261025T010000
END:STANDARD
END:VTIMEZONE
BEGIN:VEVENT
DTSTART;TZID=Europe/Paris:20260606T000000
DTEND;TZID=Europe/Paris:20260607T235900
DTSTAMP:20260424T130037
CREATED:20240210T135022Z
LAST-MODIFIED:20251101T172510Z
UID:28009-1780704000-1780876740@www.gravel.it
SUMMARY:Geogravel Tuscany
DESCRIPTION:
URL:https://www.gravel.it/evento-gravel/geogravel-tuscany/
LOCATION:Pomarance\, Pomarance                            \, Pisa\, Italia
CATEGORIES:Gravel
ATTACH;FMTTYPE=image/jpeg:https://www.gravel.it/wp-content/uploads/2024/02/Cattura-14.jpg
END:VEVENT
BEGIN:VEVENT
DTSTART;VALUE=DATE:20260607
DTEND;VALUE=DATE:20260608
DTSTAMP:20260424T130037
CREATED:20240206T141155Z
LAST-MODIFIED:20251227T175747Z
UID:27893-1780790400-1780876799@www.gravel.it
SUMMARY:Padus Gravel
DESCRIPTION:
URL:https://www.gravel.it/evento-gravel/padus-gravel/
LOCATION:Bosco Le Gabbiane
CATEGORIES:Gravel
ATTACH;FMTTYPE=image/jpeg:https://www.gravel.it/wp-content/uploads/2024/02/Cattura-2.jpg
ORGANIZER;CN="Passione%20gravel%20-%20strade%20basse%20lodigiane":MAILTO:passionegravel@gmail.com
END:VEVENT
BEGIN:VEVENT
DTSTART;VALUE=DATE:20260607
DTEND;VALUE=DATE:20260608
DTSTAMP:20260424T130037
CREATED:20260101T182433Z
LAST-MODIFIED:20260101T182433Z
UID:42132-1780790400-1780876799@www.gravel.it
SUMMARY:FLOWER GRAVEL
DESCRIPTION:Flower Gravel 2026 è l’evento che unisce sport\, natura e meraviglia\, aperto a tutti: dai ciclisti alle prime esperienze fino ai più esperti\, con percorsi perfetti per Gravel\, MTB ed E-Bike.Il viaggio ti porterà nel cuore del Monregalese\, una terra che profuma di boschi\, colline e libertà. Pedalerai ai piedi delle Alpi Cuneesi\, tra scenari che alternano strade bianche\, prati fioriti\, sentieri immersi nel sottobosco e tranquille vie di campagna\, attraversando borghi rurali in cui il tempo sembra essersi fermato.Partenza e arrivo si trovano davanti al maestoso Santuario di Vicoforte\, gioiello architettonico noto per la sua straordinaria cupola ellittica\, la più grande al mondo nel suo genere. \n  \nDa qui\, ogni partecipante intraprenderà un percorso che è molto più di una pedalata  è un’esperienza di paesaggio\, profumi e silenzi\, immersa nella fioritura primaverile che dà il nome all’evento.La salita più iconica? Quella da Breo a Piazza (Mondovì)\, un tratto sterrato che regala la fatica giusta e un emozionante passaggio sul terrazzo panoramico della Torre del Belvedere\, da cui lo sguardo abbraccia l’intera vallata.Tre i percorsi pensati per adattarsi a ogni livello e desiderio di avventura: \n  \n40 km (+700 m D+) per chi vuole vivere la giornata in leggerezza e godersi il paesaggio \n.55 km (+1000 m D+) per chi cerca un equilibrio tra sfida e contemplazione. \n90 km (+1300 m D+)\, attraverso cinque comuni\, per chi vuole respirare fino in fondo lo spirito del Monregalese. \n  \nLa Flower Gravel non è solo una pedalata: è un inno alla primavera\, alle strade secondarie e alla bellezza di muoversi nel modo più semplice e autentico  in bici\, seguendo il ritmo della natura.
URL:https://www.gravel.it/evento-gravel/flower-gravel/
LOCATION:Vicoforte
ATTACH;FMTTYPE=image/jpeg:https://www.gravel.it/wp-content/uploads/2025/02/C25_SuperX_Lifestyle-Photography-6.jpg
ORGANIZER;CN="FLOWER%20GRAVEL":MAILTO:flowergravel2024@gmail.com
END:VEVENT
BEGIN:VEVENT
DTSTART;VALUE=DATE:20260607
DTEND;VALUE=DATE:20260608
DTSTAMP:20260424T130037
CREATED:20260101T182726Z
LAST-MODIFIED:20260101T182726Z
UID:42136-1780790400-1780876799@www.gravel.it
SUMMARY:Gravel dei colli novaresi
DESCRIPTION:Un’esperienza da vivere con tutti i sensi: gravel\, natura e gusto si incontrano in una giornata pensata per chi ama l’avventura lenta\, i paesaggi autentici e la convivialità.Più che un evento\, è un invito a scoprire il territorio pedalata dopo pedalata\, tra strade bianche\, colline e borghi che profumano di tradizione. Lungo il percorso\, il buon cibo e i prodotti locali accompagneranno ogni momento\, trasformando la fatica in puro piacere. \n  \nUn’occasione per chi crede che la bicicletta sia il modo più bello di conoscere un luogo: con calma\, curiosità e fame di chilometri e di sapori.L’evento fa parte del circuito “Gravel Circus 2026”\, la rassegna che celebra la libertà del pedalare e la scoperta dei territori italiani più autentici.
URL:https://www.gravel.it/evento-gravel/gravel-dei-colli-novaresi/
LOCATION:Cavaglio d’Agogna
ATTACH;FMTTYPE=image/png:https://www.gravel.it/wp-content/uploads/2026/01/Gravel-Colli-Novaresi.png
END:VEVENT
END:VCALENDAR