BEGIN:VCALENDAR
VERSION:2.0
PRODID:-//Gravel - ECPv5.8.1//NONSGML v1.0//EN
CALSCALE:GREGORIAN
METHOD:PUBLISH
X-WR-CALNAME:Gravel
X-ORIGINAL-URL:https://www.gravel.it
X-WR-CALDESC:Eventi per Gravel
BEGIN:VTIMEZONE
TZID:Europe/Paris
BEGIN:DAYLIGHT
TZOFFSETFROM:+0100
TZOFFSETTO:+0200
TZNAME:CEST
DTSTART:20260329T010000
END:DAYLIGHT
BEGIN:STANDARD
TZOFFSETFROM:+0200
TZOFFSETTO:+0100
TZNAME:CET
DTSTART:20261025T010000
END:STANDARD
END:VTIMEZONE
BEGIN:VEVENT
DTSTART;TZID=Europe/Paris:20260605T000000
DTEND;TZID=Europe/Paris:20260606T235900
DTSTAMP:20260424T130114
CREATED:20190125T132832Z
LAST-MODIFIED:20251101T171623Z
UID:8764-1780617600-1780790340@www.gravel.it
SUMMARY:BAM Bicycle Adventure Meeting
DESCRIPTION:
URL:https://www.gravel.it/evento-gravel/bam-bicycle-adventure-meeting/
LOCATION:Mantova\, Mantova\, Mantova\, Italia
CATEGORIES:Gravel
ATTACH;FMTTYPE=image/jpeg:https://www.gravel.it/wp-content/uploads/2021/01/Cattura-9.jpg
END:VEVENT
BEGIN:VEVENT
DTSTART;VALUE=DATE:20260606
DTEND;VALUE=DATE:20260607
DTSTAMP:20260424T130114
CREATED:20230129T141239Z
LAST-MODIFIED:20260101T180513Z
UID:23606-1780704000-1780790399@www.gravel.it
SUMMARY:Gravel del Gigante Bianco
DESCRIPTION:
URL:https://www.gravel.it/evento-gravel/gravel-del-gigante-bianco/
LOCATION:Bettolle
CATEGORIES:Gravel
ATTACH;FMTTYPE=image/jpeg:https://www.gravel.it/wp-content/uploads/2022/02/Cattura-19.jpg
ORGANIZER;CN="Donkey%20Bike%20Club":MAILTO:info@donkeybike.it
END:VEVENT
BEGIN:VEVENT
DTSTART;TZID=Europe/Paris:20260606T000000
DTEND;TZID=Europe/Paris:20260607T235900
DTSTAMP:20260424T130114
CREATED:20240210T135022Z
LAST-MODIFIED:20251101T172510Z
UID:28009-1780704000-1780876740@www.gravel.it
SUMMARY:Geogravel Tuscany
DESCRIPTION:
URL:https://www.gravel.it/evento-gravel/geogravel-tuscany/
LOCATION:Pomarance\, Pomarance                            \, Pisa\, Italia
CATEGORIES:Gravel
ATTACH;FMTTYPE=image/jpeg:https://www.gravel.it/wp-content/uploads/2024/02/Cattura-14.jpg
END:VEVENT
BEGIN:VEVENT
DTSTART;VALUE=DATE:20260606
DTEND;VALUE=DATE:20260607
DTSTAMP:20260424T130114
CREATED:20260101T181034Z
LAST-MODIFIED:20260101T181034Z
UID:42118-1780704000-1780790399@www.gravel.it
SUMMARY:LA CHIANINA UNCONVENTIONAL BIKE ADVENTURE
DESCRIPTION:Due giorni di avventura in sella alla tua Gravel\, MTB o E-Bike\, alla scoperta delle strade più suggestive della Valdichiana Aretina. Un weekend pensato per chi ama pedalare\, esplorare e condividere la passione per la bici immerso in un paesaggio di borghi storici\, colline e sapori autentici.Non è il classico evento di gravel o bikepacking. Qui puoi vivere due giorni di libertà senza pensieri\, perché non dovrai portarti dietro bagagli o attrezzature. Il format è semplice e completo: due tappe\, un unico campo base che diventa il cuore pulsante dell’esperienza  punto di partenza e arrivo\, luogo della cena\, della festa\, del pernottamento e dei servizi. \n  \nIl centro dell’avventura sarà Marciano della Chiana (AR)\, un affascinante borgo dominato dalla sua torre medievale\, nel cuore della valle. Qui troverai ogni comfort: docce\, area tende\, bivacchi coperti e un parcheggio dedicato ai camper. E per chi arriva da lontano\, tutto sarà già pronto dal venerdì sera\, così da vivere l’esperienza fin dall’inizio in totale relax.Più che un evento\, un modo diverso di vivere la bici  tra amicizia\, natura e scoperta.
URL:https://www.gravel.it/evento-gravel/la-chianina-unconventional-bike-adventure/
LOCATION:Marciano della Chiana
ATTACH;FMTTYPE=image/png:https://www.gravel.it/wp-content/uploads/2026/01/LA-CHIANINA-UBA.png
ORGANIZER;CN="LA%20CHIANINA%20UNCONVENTIONAL%20BIKE%20ADVENTURE":MAILTO:segreteria@lachianina.org
END:VEVENT
BEGIN:VEVENT
DTSTART;VALUE=DATE:20260606
DTEND;VALUE=DATE:20260607
DTSTAMP:20260424T130114
CREATED:20260101T181657Z
LAST-MODIFIED:20260101T181657Z
UID:42123-1780704000-1780790399@www.gravel.it
SUMMARY:La Diabolica
DESCRIPTION:Tre percorsi\, un solo punto di partenza: Montemarzo\, tra le splendide colline dell’Astigiano\, dove ogni salita racconta una storia e ogni curva regala un panorama diverso.Percorso Diavolo Rosso \nUn medio fondo dedicato a gravel\, mountain bike muscolari ed E-MTB\, con partenza scaglionata e andatura libera su un tracciato misto tra sterrato e asfalto\, all’interno della manifestazione “La Diabolica”. I 65 km di percorso culminano con un’opzione per chi vuole misurarsi con qualcosa di più: un finale agonistico cronometrato di 1\,25 km sulla leggendaria salita del Gerbido Impedalabile. Chi preferisce può invece tagliare il traguardo direttamente a Montemarzo\, saltando l’ultimo strappo.Percorso Coppa Città di Asti \nPensato per gli amanti della bici da strada muscolare\, questo medio fondo di 85 km offre un’esperienza sportiva completa\, tra colline\, vigneti e panorami astigiani. Anche qui\, partenza scaglionata e andatura libera\, con la possibilità di affrontare\, in chiusura\, la salita del Gerbido Impedalabile un tratto breve ma intenso\, per chi non resiste alla tentazione della sfida.Percorso Luciano Cerrato \nDedicato a chi vuole vivere la giornata in chiave più turistica e rilassata\, questo itinerario di 65 km su strada è aperto sia a bici muscolari che a pedalata assistita. Una pedalata tra i paesaggi più belli della zona\, con arrivo diretto a Montemarzo e tanto spazio per godersi il piacere di pedalare senza fretta.Tre percorsi\, tre modi diversi di vivere La Diabolica ma un’unica certezza: un evento in cui passione\, fatica e divertimento si fondono tra i profumi e i colori delle colline piemontesi.
URL:https://www.gravel.it/evento-gravel/la-diabolica/
LOCATION:Asti
ATTACH;FMTTYPE=image/jpeg:https://www.gravel.it/wp-content/uploads/2025/07/IMG-20250717-WA0002.jpg
END:VEVENT
BEGIN:VEVENT
DTSTART;VALUE=DATE:20260606
DTEND;VALUE=DATE:20260607
DTSTAMP:20260424T130114
CREATED:20260101T182039Z
LAST-MODIFIED:20260101T182039Z
UID:42127-1780704000-1780790399@www.gravel.it
SUMMARY:TAP (TUTTI A PINEROLO!)
DESCRIPTION:TAP – il bike trail fuori dagli schemi. \nNon è solo un evento ciclistico\, ma un vero e proprio viaggio nel cuore del Pinerolese\, dove ogni pedalata diventa scoperta\, e ogni salita svela un nuovo orizzonte. Due giorni in sella tra sterrati e natura incontaminata: i percorsi non superano i 1600 metri di quota\, ma regalano emozioni\, panorami e atmosfere da vera alta montagna.Il bello\, però\, non si ferma al traguardo. Il Campo Base\, allestito presso il Centro Sportivo Il Podio di Porte di Pinerolo\, sarà il centro vitale del TAP: un luogo dove la fatica lascia spazio alla festa. Che tu scelga di dormire in tenda\, in van\, nel bivacco o in una comoda stanza d’albergo\, qui troverai quello che serve per ricaricare le energie — birra artigianale spillata dai produttori locali\, ottimo cibo del territorio\, musica e risate senza fine.Due giorni\, due vallate\, infinite emozioni. Il TAP è un’esperienza che mescola avventura\, convivialità e scoperta sensoriale di un territorio autentico\, da pedalare\, gustare e respirare fino in fondo.Segna la data: 6-7 giugno 2026. \nDue opzioni di percorso ogni giorno: \nGiorno 1 – 90 km / 2000 m D+ (difficile) oppure 50 km / 1000 m D+ (facile) \nGiorno 2 – 90 km / 2000 m D+ (difficile) oppure 50 km / 1000 m D+ (facile)Non è la solita avventura su due ruote. È il TAP: un modo diverso di vivere la montagna\, la bici e la libertà.
URL:https://www.gravel.it/evento-gravel/tap-tutti-a-pinerolo/
LOCATION:Porte
ATTACH;FMTTYPE=image/jpeg:https://www.gravel.it/wp-content/uploads/2026/01/logo-TAP.jpg
ORGANIZER;CN="TAP%20%28TUTTI%20A%20PINEROLO%21%29":MAILTO:tap.tuttiapinerolo@gmail.com
END:VEVENT
END:VCALENDAR