BEGIN:VCALENDAR
VERSION:2.0
PRODID:-//Gravel - ECPv5.8.1//NONSGML v1.0//EN
CALSCALE:GREGORIAN
METHOD:PUBLISH
X-WR-CALNAME:Gravel
X-ORIGINAL-URL:https://www.gravel.it
X-WR-CALDESC:Eventi per Gravel
BEGIN:VTIMEZONE
TZID:Europe/Paris
BEGIN:DAYLIGHT
TZOFFSETFROM:+0100
TZOFFSETTO:+0200
TZNAME:CEST
DTSTART:20260329T010000
END:DAYLIGHT
BEGIN:STANDARD
TZOFFSETFROM:+0200
TZOFFSETTO:+0100
TZNAME:CET
DTSTART:20261025T010000
END:STANDARD
END:VTIMEZONE
BEGIN:VEVENT
DTSTART;TZID=Europe/Paris:20260530T080000
DTEND;TZID=Europe/Paris:20260602T170000
DTSTAMP:20260424T141544
CREATED:20240205T141642Z
LAST-MODIFIED:20251227T174917Z
UID:27860-1780128000-1780419600@www.gravel.it
SUMMARY:Basilicata Bike Trail spring edition
DESCRIPTION:  \n 
URL:https://www.gravel.it/evento-gravel/basilicata-bike-trail-spring-edition/
LOCATION:Metaponto
CATEGORIES:Gravel
ATTACH;FMTTYPE=image/jpeg:https://www.gravel.it/wp-content/uploads/2021/01/Cattura-9.jpg
END:VEVENT
END:VCALENDAR