BEGIN:VCALENDAR
VERSION:2.0
PRODID:-//Gravel - ECPv5.8.1//NONSGML v1.0//EN
CALSCALE:GREGORIAN
METHOD:PUBLISH
X-WR-CALNAME:Gravel
X-ORIGINAL-URL:https://www.gravel.it
X-WR-CALDESC:Eventi per Gravel
BEGIN:VTIMEZONE
TZID:Europe/Paris
BEGIN:DAYLIGHT
TZOFFSETFROM:+0100
TZOFFSETTO:+0200
TZNAME:CEST
DTSTART:20260329T010000
END:DAYLIGHT
BEGIN:STANDARD
TZOFFSETFROM:+0200
TZOFFSETTO:+0100
TZNAME:CET
DTSTART:20261025T010000
END:STANDARD
END:VTIMEZONE
BEGIN:VEVENT
DTSTART;TZID=Europe/Paris:20260529T080000
DTEND;TZID=Europe/Paris:20260531T170000
DTSTAMP:20260424T114423
CREATED:20241207T142013Z
LAST-MODIFIED:20260101T175850Z
UID:32401-1780041600-1780246800@www.gravel.it
SUMMARY:Salento Trail
DESCRIPTION:Il Salento Trail 2026 ti porterà lungo percorsi che raccontano un territorio unico\, dove mare\, campagna e storia si intrecciano a ogni chilometro. Potrai scegliere tra sei tracciati diversi: 130 km Est\, 130 km Sud\, 220 km Nord\, 220 km Sud\, 400 km Full e 500 km Full\, ognuno con la sua identità e il suo fascino particolare. \n  \n“Irregular Roads” è la filosofia del Salento Trail: un’esperienza autentica\, che alterna sterrato e asfalto\, spingendoti a esplorare il lato più vero e selvaggio della penisola salentina. È l’occasione perfetta per respirare la sua essenza rurale\, scoprire angoli nascosti\, pedalare tra ulivi secolari e borghi antichi\, assaporando tutto ciò che rende questa terra indimenticabile. \n  \nLa partenza è fissata nel cuore del Parco del Crocifisso di Muro Leccese\, in provincia di Lecce\, punto di ritrovo per chi crede che il viaggio sia più importante della meta. Qui inizia la tua avventura: una sfida da vivere con la mente aperta\, il cuore libero e le ruote pronte a scrivere una nuova storia di bikepacking.
URL:https://www.gravel.it/evento-gravel/salento-trail/
LOCATION:Muro Leccese
ATTACH;FMTTYPE=image/jpeg:https://www.gravel.it/wp-content/uploads/2024/08/NUOVA-BMC-URS-3-1024x576-1.jpg
END:VEVENT
BEGIN:VEVENT
DTSTART;TZID=Europe/Paris:20260530T080000
DTEND;TZID=Europe/Paris:20260602T170000
DTSTAMP:20260424T114423
CREATED:20240205T141642Z
LAST-MODIFIED:20251227T174917Z
UID:27860-1780128000-1780419600@www.gravel.it
SUMMARY:Basilicata Bike Trail spring edition
DESCRIPTION:  \n 
URL:https://www.gravel.it/evento-gravel/basilicata-bike-trail-spring-edition/
LOCATION:Metaponto
CATEGORIES:Gravel
ATTACH;FMTTYPE=image/jpeg:https://www.gravel.it/wp-content/uploads/2021/01/Cattura-9.jpg
END:VEVENT
BEGIN:VEVENT
DTSTART;VALUE=DATE:20260531
DTEND;VALUE=DATE:20260601
DTSTAMP:20260424T114423
CREATED:20220217T143555Z
LAST-MODIFIED:20260101T180345Z
UID:18330-1780185600-1780271999@www.gravel.it
SUMMARY:Il Romagnolo Audace
DESCRIPTION:“L’ AUDACE DI PIANURA“\nIl percorso a dislivello zero sarà un anello di 52 km in pianura con la presenza di 2 punti ristoro ed il Cappelletti Party Finale.\nLa partenza comune a tutti i tracciati è dal Deka Sport Passion a Sant’Agata sul Santerno; pedaleremo lungo il fiume Santerno tra argini e carraie di campagna o su asfalti silenziosi\,  passeremo sotto i ponti della via Emilia dentro parco fluviale del Santerno con giro di boa alla fine dell’autodromo Dino Ferrari dove verrà allestito un ristoro curato dal Deka Riders Team Bike. Pedaleremo nelle silenziose campagne verso Mordano con ristoro all’Angolo del Gelato 2…..e all’arrivo\, presso Deka Sport\, Mangiata Finale a base di cappelletti al ragù fatto in casa!\n\n\n \n\n\n\n\n\n \n\n\n\n“L’ AUDACE DI COLLINA”\nIl percorso è un anello di circa 115 km con dislivello di 1.150 m.\nLa prima parte è comune al tracciato di pianura fino ad Imola per poi proseguire verso ovest\, con il primo ristoro presso gli amici della Trattoria da Fiore a Codrignano\, per prendere la ciclabile del Santerno dove\, nel parco fluviale Borgo Tossignano si guada il fiume per entrare nel parco regionale della Vena del Gesso; qui  sarà allestita una tappa-ristoro di solo liquidi al “Chiosco 31” (anche punto ricarica e-bike) prima di affrontare il Monte Battaglia\, a seguire scenderemo nel parco fluviale Casola Valsenio per poi raggiungere Villa Vezzano dopo aver fatto tappa presso l’ Agriturismo-Cantina il Gualdo di Sotto (anche punto ricarica e-bike) ?in localita’ Isola. Dopo il ristoro di nuovo in sella verso Castel Bolognese e pedalando lungo il Fiume Senio\, su stradine remote giungeremo a Solarolo per un assaggio gustoso di gelato presso la Gelateria del Borgo. Si attraverserà uno dei borghi più belli di Italia Bagnara di Romagna prima di ritornare al Deka Sport per la meritata Mangiata Finale a base di cappelletti al ragù fatto in casa!!\n\n\n \n\n\n\n\n\n \n\n\n\n“L’AUDACE DI MONTAGNA”\nIl percorso ULTRA AUDACE e’ un anello di 156 km con dislivello di 2.460 mt\nGli Audaci di montagna seguiranno il percorso segnalto del medio fino al Monte Battaglia dove il percorso proseguirà in altura in modalità gpx per scendere a valle a Misileo in Toscana ed arrivare a Badia di Susinana attraversando l’ex complesso monastico. A meta’ della salita del monte Toncone troverete ristoro alla Bettola del Prataiolo; il viaggio prosegue e dopo aver svalicato il monte Toncone entreremo nella valle del torrente Sintria dopo Zattaglia…qui si sale Monte Mauro – la cima piu’ alta della vena del gesso romagnola – al termine della discesa in localita’ Isola ci sarà ristoro allestito presso l’agriturismo e cantina Il Gualdo di Sotto\, qui il tracciato del lungo si collega al percorso segnalato del medio seguendolo fino all’arrivo passando per Villa Vezzano\, Castel Bolognese poi pedalando lungo il Fiume Senio\, su stradine remote\, qui giungeremo a Solarolo per un po’ di gelato presso la Gelateria del Borgo. Si attraverserà uno dei borghi più belli di Italia Bagnara di Romagna prima di ritornare al Deka Sport per la meritata Mangiata Finale a base di cappelletti al ragù fatto in casa!
URL:https://www.gravel.it/evento-gravel/il-romagnolo-audac/
LOCATION:Sant’Agata sul Santerno\, Ravenna\, Ravenna\, Italia
CATEGORIES:Gravel
ATTACH;FMTTYPE=image/jpeg:https://www.gravel.it/wp-content/uploads/2023/07/BH-GRAVELX-LR-79.jpg
END:VEVENT
BEGIN:VEVENT
DTSTART;VALUE=DATE:20260531
DTEND;VALUE=DATE:20260602
DTSTAMP:20260424T114423
CREATED:20230807T132501Z
LAST-MODIFIED:20251101T161005Z
UID:25776-1780185600-1780358399@www.gravel.it
SUMMARY:Craft Beer Trail
DESCRIPTION:
URL:https://www.gravel.it/evento-gravel/craft-beer-trail/
LOCATION:Riccione\, Riccione                            \, Rimini\, Italia
ATTACH;FMTTYPE=image/jpeg:https://www.gravel.it/wp-content/uploads/2023/08/Cattura.jpg
END:VEVENT
END:VCALENDAR