BEGIN:VCALENDAR
VERSION:2.0
PRODID:-//Gravel - ECPv5.8.1//NONSGML v1.0//EN
CALSCALE:GREGORIAN
METHOD:PUBLISH
X-WR-CALNAME:Gravel
X-ORIGINAL-URL:https://www.gravel.it
X-WR-CALDESC:Eventi per Gravel
BEGIN:VTIMEZONE
TZID:Europe/Paris
BEGIN:DAYLIGHT
TZOFFSETFROM:+0100
TZOFFSETTO:+0200
TZNAME:CEST
DTSTART:20260329T010000
END:DAYLIGHT
BEGIN:STANDARD
TZOFFSETFROM:+0200
TZOFFSETTO:+0100
TZNAME:CET
DTSTART:20261025T010000
END:STANDARD
END:VTIMEZONE
BEGIN:VEVENT
DTSTART;TZID=Europe/Paris:20260520T000000
DTEND;TZID=Europe/Paris:20260526T235900
DTSTAMP:20260424T114325
CREATED:20190129T130919Z
LAST-MODIFIED:20251101T160614Z
UID:8787-1779235200-1779839940@www.gravel.it
SUMMARY:Tuscany Trail
DESCRIPTION:
URL:https://www.gravel.it/evento-gravel/tuscany-trail/
LOCATION:CASTAGNETO CARDUCCI
CATEGORIES:Gravel
ATTACH;FMTTYPE=image/jpeg:https://www.gravel.it/wp-content/uploads/2024/05/ZiaW5PPdc1huKruN_Z8A_0596-23-.jpg
ORGANIZER;CN="Tuscany%20Trail":MAILTO: info@tuscanytrail.it
END:VEVENT
BEGIN:VEVENT
DTSTART;VALUE=DATE:20260523
DTEND;VALUE=DATE:20260527
DTSTAMP:20260424T114325
CREATED:20210527T132658Z
LAST-MODIFIED:20251101T171911Z
UID:15179-1779494400-1779839999@www.gravel.it
SUMMARY:Trail dei Parchi - Bikepacking Experience
DESCRIPTION:
URL:https://www.gravel.it/evento-gravel/trail-dei-parchi-bikepacking-experience/
LOCATION:Barisciano
CATEGORIES:Gravel
ATTACH;FMTTYPE=image/jpeg:https://www.gravel.it/wp-content/uploads/2025/07/IMG-20250717-WA0002.jpg
ORGANIZER;CN="Trail%20dei%20Parchi":MAILTO:https://www.traildeiparchimtb.it/
END:VEVENT
BEGIN:VEVENT
DTSTART;VALUE=DATE:20260524
DTEND;VALUE=DATE:20260525
DTSTAMP:20260424T114325
CREATED:20240210T135326Z
LAST-MODIFIED:20251227T174605Z
UID:28014-1779580800-1779667199@www.gravel.it
SUMMARY:Vesuvio Gravel
DESCRIPTION:
URL:https://www.gravel.it/evento-gravel/vesuvio-gravel/
LOCATION:Campi Flegrei
CATEGORIES:Gravel
ATTACH;FMTTYPE=image/jpeg:https://www.gravel.it/wp-content/uploads/2024/10/lapierre-3-1024x682-1.jpg
END:VEVENT
BEGIN:VEVENT
DTSTART;VALUE=DATE:20260524
DTEND;VALUE=DATE:20260525
DTSTAMP:20260424T114325
CREATED:20240218T143624Z
LAST-MODIFIED:20251101T174018Z
UID:28231-1779580800-1779667199@www.gravel.it
SUMMARY:Nove Colli Gravel
DESCRIPTION:
URL:https://www.gravel.it/evento-gravel/nove-colli-gravel/
LOCATION:Cesenatico\, Cesenatico\, Forla - Cesena\, Italia
CATEGORIES:Gravel
ATTACH;FMTTYPE=image/jpeg:https://www.gravel.it/wp-content/uploads/2024/02/Cattura-4.jpg
ORGANIZER;CN="ASD%20G.C.%20Fausto%20Coppi":MAILTO:info@novecolli.it
END:VEVENT
BEGIN:VEVENT
DTSTART;VALUE=DATE:20260524
DTEND;VALUE=DATE:20260525
DTSTAMP:20260424T114325
CREATED:20250207T155559Z
LAST-MODIFIED:20251225T130754Z
UID:33926-1779580800-1779667199@www.gravel.it
SUMMARY:Tra Riso e castelli
DESCRIPTION:La LOMELLINA \, le risaie allagate \, i castelli \, le abbazie  tutto in 3 percorsi\n\n100 km tra i passaggi suggestivi della piccola Loira italiana ;\n  70 km il giusto mix di fatica per gustare tutte le bellezze della Lomellina ;\n40 km un mini tour per tutti \, un assaggio del territorio del riso ;\nL’arrivo al ristoro è storico ed affascinante ;\nll RISOTTO PARTY  vale il viaggio.
URL:https://www.gravel.it/evento-gravel/tra-riso-e-castelli/
LOCATION:Pavia
CATEGORIES:Gravel
ATTACH;FMTTYPE=image/jpeg:https://www.gravel.it/wp-content/uploads/2025/02/471420328_122184366542154711_4363053356833775908_n.jpg
END:VEVENT
BEGIN:VEVENT
DTSTART;VALUE=DATE:20260524
DTEND;VALUE=DATE:20260525
DTSTAMP:20260424T114325
CREATED:20260101T174900Z
LAST-MODIFIED:20260101T174900Z
UID:42101-1779580800-1779667199@www.gravel.it
SUMMARY:Asprevie - Anghiari gravel roads
DESCRIPTION:
URL:https://www.gravel.it/evento-gravel/asprevie-anghiari-gravel-roads/
LOCATION:Anghiari
ATTACH;FMTTYPE=image/png:https://www.gravel.it/wp-content/uploads/2026/01/Screenshot-2024-10-28-alle-10.04.04.png
ORGANIZER;CN="Asprevie%20-%20Anghiari%20gravel%20roads":MAILTO:Info@gravelroadstuscany.it
END:VEVENT
END:VCALENDAR