BEGIN:VCALENDAR
VERSION:2.0
PRODID:-//Gravel - ECPv5.8.1//NONSGML v1.0//EN
CALSCALE:GREGORIAN
METHOD:PUBLISH
X-WR-CALNAME:Gravel
X-ORIGINAL-URL:https://www.gravel.it
X-WR-CALDESC:Eventi per Gravel
BEGIN:VTIMEZONE
TZID:Europe/Paris
BEGIN:DAYLIGHT
TZOFFSETFROM:+0100
TZOFFSETTO:+0200
TZNAME:CEST
DTSTART:20260329T010000
END:DAYLIGHT
BEGIN:STANDARD
TZOFFSETFROM:+0200
TZOFFSETTO:+0100
TZNAME:CET
DTSTART:20261025T010000
END:STANDARD
END:VTIMEZONE
BEGIN:VEVENT
DTSTART;TZID=Europe/Paris:20260520T000000
DTEND;TZID=Europe/Paris:20260526T235900
DTSTAMP:20260424T141720
CREATED:20190129T130919Z
LAST-MODIFIED:20251101T160614Z
UID:8787-1779235200-1779839940@www.gravel.it
SUMMARY:Tuscany Trail
DESCRIPTION:
URL:https://www.gravel.it/evento-gravel/tuscany-trail/
LOCATION:CASTAGNETO CARDUCCI
CATEGORIES:Gravel
ATTACH;FMTTYPE=image/jpeg:https://www.gravel.it/wp-content/uploads/2024/05/ZiaW5PPdc1huKruN_Z8A_0596-23-.jpg
ORGANIZER;CN="Tuscany%20Trail":MAILTO: info@tuscanytrail.it
END:VEVENT
END:VCALENDAR