BEGIN:VCALENDAR
VERSION:2.0
PRODID:-//Gravel - ECPv5.8.1//NONSGML v1.0//EN
CALSCALE:GREGORIAN
METHOD:PUBLISH
X-WR-CALNAME:Gravel
X-ORIGINAL-URL:https://www.gravel.it
X-WR-CALDESC:Eventi per Gravel
BEGIN:VTIMEZONE
TZID:Europe/Paris
BEGIN:DAYLIGHT
TZOFFSETFROM:+0100
TZOFFSETTO:+0200
TZNAME:CEST
DTSTART:20260329T010000
END:DAYLIGHT
BEGIN:STANDARD
TZOFFSETFROM:+0200
TZOFFSETTO:+0100
TZNAME:CET
DTSTART:20261025T010000
END:STANDARD
END:VTIMEZONE
BEGIN:VEVENT
DTSTART;VALUE=DATE:20260511
DTEND;VALUE=DATE:20260512
DTSTAMP:20260424T130951
CREATED:20191126T142054Z
LAST-MODIFIED:20260101T173651Z
UID:11123-1778457600-1778543999@www.gravel.it
SUMMARY:Italy Divide - Unsupported Adventure
DESCRIPTION:
URL:https://www.gravel.it/evento-gravel/italy-divide-unsupported-adventure/
LOCATION:Pompei
CATEGORIES:Gravel
ATTACH;FMTTYPE=image/jpeg:https://www.gravel.it/wp-content/uploads/2019/11/69214171_118226802859551_5876390321859854336_n.jpg
ORGANIZER;CN="italydivide.it":MAILTO:italydivide@italydivide.it
END:VEVENT
END:VCALENDAR