BEGIN:VCALENDAR
VERSION:2.0
PRODID:-//Gravel - ECPv5.8.1//NONSGML v1.0//EN
CALSCALE:GREGORIAN
METHOD:PUBLISH
X-WR-CALNAME:Gravel
X-ORIGINAL-URL:https://www.gravel.it
X-WR-CALDESC:Eventi per Gravel
BEGIN:VTIMEZONE
TZID:Europe/Paris
BEGIN:DAYLIGHT
TZOFFSETFROM:+0100
TZOFFSETTO:+0200
TZNAME:CEST
DTSTART:20260329T010000
END:DAYLIGHT
BEGIN:STANDARD
TZOFFSETFROM:+0200
TZOFFSETTO:+0100
TZNAME:CET
DTSTART:20261025T010000
END:STANDARD
END:VTIMEZONE
BEGIN:VEVENT
DTSTART;TZID=Europe/Paris:20260508T000000
DTEND;TZID=Europe/Paris:20260510T235900
DTSTAMP:20260424T114325
CREATED:20190125T131714Z
LAST-MODIFIED:20251101T160239Z
UID:8757-1778198400-1778457540@www.gravel.it
SUMMARY:Carso Trail
DESCRIPTION:
URL:https://www.gravel.it/evento-gravel/carso-trail/
LOCATION:Doberdò del Lago
CATEGORIES:Gravel
ATTACH;FMTTYPE=image/jpeg:https://www.gravel.it/wp-content/uploads/2019/01/Cattura-12.jpg
ORGANIZER;CN="CARSO%20TRAIL":MAILTO:info@carsotrail.it
END:VEVENT
BEGIN:VEVENT
DTSTART;TZID=Europe/Paris:20260509T080000
DTEND;TZID=Europe/Paris:20260510T170000
DTSTAMP:20260424T114325
CREATED:20241207T140853Z
LAST-MODIFIED:20260101T173516Z
UID:32396-1778313600-1778432400@www.gravel.it
SUMMARY:Valchiavenna Gravel Escape
DESCRIPTION:
URL:https://www.gravel.it/evento-gravel/valchiavenna-gravel-escape/
LOCATION:Chiavenna
ATTACH;FMTTYPE=image/jpeg:https://www.gravel.it/wp-content/uploads/2025/07/IMG-20250717-WA0007.jpg
END:VEVENT
BEGIN:VEVENT
DTSTART;VALUE=DATE:20260510
DTEND;VALUE=DATE:20260511
DTSTAMP:20260424T114325
CREATED:20210610T135222Z
LAST-MODIFIED:20251101T162505Z
UID:15328-1778371200-1778457599@www.gravel.it
SUMMARY:MAMOREMA Gravel NO Race
DESCRIPTION:
URL:https://www.gravel.it/evento-gravel/mamorema-gravel-no-race/
LOCATION:Monzambano\, Monzambano                            \, Mantova\, Italia
CATEGORIES:Gravel
ATTACH;FMTTYPE=image/png:https://www.gravel.it/wp-content/uploads/2024/02/Cattura.png
END:VEVENT
BEGIN:VEVENT
DTSTART;VALUE=DATE:20260510
DTEND;VALUE=DATE:20260511
DTSTAMP:20260424T114325
CREATED:20220524T115207Z
LAST-MODIFIED:20251101T160455Z
UID:19913-1778371200-1778457599@www.gravel.it
SUMMARY:BUTTAFUOCO GRAVEL
DESCRIPTION:
URL:https://www.gravel.it/evento-gravel/buttafuoco-gravel/
LOCATION:Canneto Pavese\, Canneto Pavese                            \, Pavia\, Italia
CATEGORIES:Gravel
ATTACH;FMTTYPE=image/jpeg:https://www.gravel.it/wp-content/uploads/2022/05/BUTTAFUOCO-GRAVEL.jpg
ORGANIZER;CN="Passione%20gravel%20-%20strade%20basse%20lodigiane":MAILTO:passionegravel@gmail.com
END:VEVENT
BEGIN:VEVENT
DTSTART;VALUE=DATE:20260510
DTEND;VALUE=DATE:20260511
DTSTAMP:20260424T114325
CREATED:20241202T134552Z
LAST-MODIFIED:20260101T173800Z
UID:32302-1778371200-1778457599@www.gravel.it
SUMMARY:La GranMilàn Vigorelli
DESCRIPTION:
URL:https://www.gravel.it/evento-gravel/la-granmilan-vigorelli/
LOCATION:Milano\, Milano\, Milano\, Italia
ATTACH;FMTTYPE=image/jpeg:https://www.gravel.it/wp-content/uploads/2024/08/NUOVA-BMC-URS-3-1024x576-1.jpg
ORGANIZER;CN="GENOVA%201913%20ASD-MILANO":MAILTO:info@genova1913.it
END:VEVENT
END:VCALENDAR