BEGIN:VCALENDAR
VERSION:2.0
PRODID:-//Gravel - ECPv5.8.1//NONSGML v1.0//EN
CALSCALE:GREGORIAN
METHOD:PUBLISH
X-WR-CALNAME:Gravel
X-ORIGINAL-URL:https://www.gravel.it
X-WR-CALDESC:Eventi per Gravel
BEGIN:VTIMEZONE
TZID:Europe/Paris
BEGIN:DAYLIGHT
TZOFFSETFROM:+0100
TZOFFSETTO:+0200
TZNAME:CEST
DTSTART:20260329T010000
END:DAYLIGHT
BEGIN:STANDARD
TZOFFSETFROM:+0200
TZOFFSETTO:+0100
TZNAME:CET
DTSTART:20261025T010000
END:STANDARD
END:VTIMEZONE
BEGIN:VEVENT
DTSTART;VALUE=DATE:20260501
DTEND;VALUE=DATE:20260502
DTSTAMP:20260424T103615
CREATED:20190128T132101Z
LAST-MODIFIED:20251227T174139Z
UID:8780-1777593600-1777679999@www.gravel.it
SUMMARY:Emilia-Romagna Bike Trail
DESCRIPTION:
URL:https://www.gravel.it/evento-gravel/emilia-romagna-bike-trail/
LOCATION:Bologna\, Bologna\, Bologna\, Italia
CATEGORIES:Gravel
ATTACH;FMTTYPE=image/jpeg:https://www.gravel.it/wp-content/uploads/2025/07/IMG-20250717-WA0002.jpg
ORGANIZER;CN="Romagna%20bike":MAILTO:info@romagnabiketrail.it
END:VEVENT
BEGIN:VEVENT
DTSTART;VALUE=DATE:20260501
DTEND;VALUE=DATE:20260502
DTSTAMP:20260424T103615
CREATED:20260101T172123Z
LAST-MODIFIED:20260101T172123Z
UID:42079-1777593600-1777679999@www.gravel.it
SUMMARY:Maxxis Gravel Garda Trentino
DESCRIPTION:
URL:https://www.gravel.it/evento-gravel/maxxis-gravel-garda-trentino/
LOCATION:Riva del Garda
CATEGORIES:Gravel
ATTACH;FMTTYPE=image/jpeg:https://www.gravel.it/wp-content/uploads/2025/07/IMG-20250717-WA0002.jpg
ORGANIZER;CN="Maxxis%20Gravel%20Garda%20Trentino":MAILTO:info@bikefestivalriva.com
END:VEVENT
BEGIN:VEVENT
DTSTART;VALUE=DATE:20260501
DTEND;VALUE=DATE:20260502
DTSTAMP:20260424T103615
CREATED:20260101T172602Z
LAST-MODIFIED:20260101T172602Z
UID:42082-1777593600-1777679999@www.gravel.it
SUMMARY:SHARDANA Bikeventure 2026
DESCRIPTION:490 KM\, 875 KM o 1100 KM: scegli tu la tua avventura. Qualunque sia la distanza che deciderai di affrontare\, la nostra splendida Sardegna saprà conquistarti in ogni suo dettaglio. Spiagge da cartolina\, paesaggi sconfinati\, accoglienza autentica e una cucina che ti farà pedalare col sorriso ti accompagneranno lungo il tuo viaggio.La partenza è fissata per il 1° maggio 2026 a Olbia. Da lì\, avrai due settimane di tempo per completare il percorso al tuo ritmo. Puoi trasformarlo in una sfida contro te stesso e spingere al massimo sui pedali\, oppure scegliere di vivere un’avventura più rilassata\, gustando ogni chilometro tra natura e tradizione. Che tu decida di dedicare tre\, sei\, otto o quindici giorni\, sarai sempre tu a dettare il passo.Tutti i checkpoint saranno attivi dal 1 al 14 maggio\, pronti ad accoglierti con entusiasmo e spirito di condivisione. Iscriviti ora e vivi un’esperienza di bikepacking non supportato davvero unica\, per scoprire la Sardegna in un modo autentico e indimenticabile. \n  \nQuota di partecipazione: 140 euro.
URL:https://www.gravel.it/evento-gravel/shardana-bikeventure-2026/
LOCATION:Olbia
ATTACH;FMTTYPE=image/jpeg:https://www.gravel.it/wp-content/uploads/2026/01/SHARDANA-BIKE-ADVENTURE.jpg
ORGANIZER;CN="SHARDANA%20Bikeventure%202026":MAILTO:info@lanuragica.com
END:VEVENT
BEGIN:VEVENT
DTSTART;TZID=Europe/Paris:20260501T080000
DTEND;TZID=Europe/Paris:20260503T170000
DTSTAMP:20260424T103615
CREATED:20211209T140558Z
LAST-MODIFIED:20251231T173515Z
UID:17058-1777622400-1777827600@www.gravel.it
SUMMARY:NordOvest Divide
DESCRIPTION:
URL:https://www.gravel.it/evento-gravel/nordovest-divide/
LOCATION:Torino\, Torino\, Torino\, Italia
CATEGORIES:Gravel
ATTACH;FMTTYPE=image/jpeg:https://www.gravel.it/wp-content/uploads/2021/12/Cattura-23.jpg
END:VEVENT
BEGIN:VEVENT
DTSTART;TZID=Europe/Paris:20260501T080000
DTEND;TZID=Europe/Paris:20260501T170000
DTSTAMP:20260424T103615
CREATED:20221231T141417Z
LAST-MODIFIED:20251101T155905Z
UID:22978-1777622400-1777654800@www.gravel.it
SUMMARY:Empire Lands Gravel Bike Adventure
DESCRIPTION:#EMPIRELANDSEPIC \nè una linea che tornerà ad unire Silvi con Roma; proprio la bellissima Silvi Alta con il nome di  Castrum Silvae durante l’impero romano divenne una delle roccaforti principali sul Mare Adriatico \nLungo questa storia millenaria\, attraverserete uno Stato\, due regioni\, l’Appennino\,\,\, e dopo aver goduto della costa dei trabocchi\, visitato borghi storici immersi nei parchi nazionali ed attraversato le antiche vie Consolari\, sulla Via Appia Antica vi immergerete nella Roma Millenaria dove concluderete un avventura unica  di fronte la magnificenza di Piazza San Pietro \n \n390 Km e D+ 6.500 m  70% Off Road \n #EMPIRELANDSLEGEND \nE’ il lato “selvaggio” della Race Across Italy\, che vi porterà a ripercorre anche alcune delle antiche vie consolari. \nIspirata all’Impero Romano\, con un tracciato di circa 880 Km e con un D+ di circa 13.000 m \, per il 70% offroad \, e’ un evento Gravel in bikepacking dove immaginerete di andare alla conquista di Roma per poi rientrare al punto di partenza. \nLa traccia parte da Silvi Marina \, attraversa 3 Regioni \, 4 Parchi Nazionali \, e 2 volte in Appennino per toccare sia il Mar Tirreno che il Mar Adriatico; un coast to coast unico nel cuore dell’Italia \nLungo la rotta dell’Empire Lands\, scoprirete alcune vie storiche (come la Via Appia e la Via Francigena)\, paesaggi meravigliosi in aree montane remote\, borghi storici\, i colori mozzafiato della Costa dei Trabocchi\, città antiche con migliaia di anni di storia e poi…. Roma è Roma! \n  \n \n900 Km e D+ 13.000 m  70% Off Road \n#EMPIRELANDSEPIC \nè una linea che tornerà ad unire Silvi con Roma; proprio la bellissima Silvi Alta con il nome di  Castrum Silvae durante l’impero romano divenne una delle roccaforti principali sul Mare Adriatico \nLungo questa storia millenaria\, attraverserete uno Stato\, due regioni\, l’Appennino\,\,\, e dopo aver goduto della costa dei trabocchi\, visitato borghi storici immersi nei parchi nazionali ed attraversato le antiche vie Consolari\, sulla Via Appia Antica vi immergerete nella Roma Millenaria dove concluderete un avventura unica  di fronte la magnificenza di Piazza San Pietro \n \n390 Km e D+ 6.500 m  70% Off Road \n#EMPIRELANDSROOKIE \nE’ l’avventura ideale per chi vuole avvicinarsi ad una bikepacking adventure!L’occasione per condividere l’esperienza con gli altri partecipanti dei percorsi piu lunghi\, l’equipaggiamento necessario\, l’emozioni e le storie che si scrivono in questo mondo unico. \n  \n \n– 166 Km e D+ 3200 m  65% Off Road
URL:https://www.gravel.it/evento-gravel/empire-lands-gravel-bike-adventure/
LOCATION:Silvi
CATEGORIES:Gravel
ATTACH;FMTTYPE=image/jpeg:https://www.gravel.it/wp-content/uploads/2019/04/cegravel.jpeg
ORGANIZER;CN="ASD%20Bike%20%26%20Dreams":MAILTO:bikedreams@libero.it
END:VEVENT
BEGIN:VEVENT
DTSTART;TZID=Europe/Paris:20260501T080000
DTEND;TZID=Europe/Paris:20260502T170000
DTSTAMP:20260424T103615
CREATED:20240207T150217Z
LAST-MODIFIED:20251231T173211Z
UID:27953-1777622400-1777741200@www.gravel.it
SUMMARY:Maremma Gravellata
DESCRIPTION:
URL:https://www.gravel.it/evento-gravel/maremma-gravellata/
LOCATION:Roselle
CATEGORIES:Gravel
ATTACH;FMTTYPE=image/jpeg:https://www.gravel.it/wp-content/uploads/2025/07/IMG-20250717-WA0002.jpg
ORGANIZER;CN="MareVettaMare":MAILTO:info@marevettamare.it
END:VEVENT
END:VCALENDAR