BEGIN:VCALENDAR
VERSION:2.0
PRODID:-//Gravel - ECPv5.8.1//NONSGML v1.0//EN
CALSCALE:GREGORIAN
METHOD:PUBLISH
X-WR-CALNAME:Gravel
X-ORIGINAL-URL:https://www.gravel.it
X-WR-CALDESC:Eventi per Gravel
BEGIN:VTIMEZONE
TZID:Europe/Paris
BEGIN:DAYLIGHT
TZOFFSETFROM:+0100
TZOFFSETTO:+0200
TZNAME:CEST
DTSTART:20260329T010000
END:DAYLIGHT
BEGIN:STANDARD
TZOFFSETFROM:+0200
TZOFFSETTO:+0100
TZNAME:CET
DTSTART:20261025T010000
END:STANDARD
END:VTIMEZONE
BEGIN:VEVENT
DTSTART;TZID=Europe/Paris:20260419T080000
DTEND;TZID=Europe/Paris:20260426T170000
DTSTAMP:20260424T102855
CREATED:20251231T171949Z
LAST-MODIFIED:20251231T171949Z
UID:42055-1776585600-1777222800@www.gravel.it
SUMMARY:Traversata itinerario Sicily Divide
DESCRIPTION:
URL:https://www.gravel.it/evento-gravel/traversata-itinerario-sicily-divide/
LOCATION:Catania\, Catania\, Catania\, Italia
CATEGORIES:Gravel
ATTACH;FMTTYPE=image/png:https://www.gravel.it/wp-content/uploads/2025/12/ETNA-BIKE-EXPERIENCE_20250914_145231_0000.png
ORGANIZER;CN="Traversata%20itinerario%20Sicily%20Divide":MAILTO:alessandropasqua762@gmail.com
END:VEVENT
BEGIN:VEVENT
DTSTART;VALUE=DATE:20260425
DTEND;VALUE=DATE:20260427
DTSTAMP:20260424T102855
CREATED:20230326T131902Z
LAST-MODIFIED:20251207T135711Z
UID:24487-1777075200-1777247999@www.gravel.it
SUMMARY:Unpaved Roads Punta Ala
DESCRIPTION:
URL:https://www.gravel.it/evento-gravel/unpaved-roads-punta-ala/
LOCATION:Punta Ala
CATEGORIES:Gravel
ATTACH;FMTTYPE=image/jpeg:https://www.gravel.it/wp-content/uploads/2023/03/330332612_496508302448673_3535238482556349651_n.jpg
ORGANIZER;CN="Unpaved%20Roads":MAILTO:info@unpavedroads.cc
END:VEVENT
BEGIN:VEVENT
DTSTART;VALUE=DATE:20260426
DTEND;VALUE=DATE:20260427
DTSTAMP:20260424T102855
CREATED:20191231T144501Z
LAST-MODIFIED:20251207T135929Z
UID:11367-1777161600-1777247999@www.gravel.it
SUMMARY:Nova Eroica Buonconvento
DESCRIPTION:
URL:https://www.gravel.it/evento-gravel/nova-eroica-buonconvento/
LOCATION:Buonconvento
CATEGORIES:Gravel
ATTACH;FMTTYPE=image/png:https://www.gravel.it/wp-content/uploads/2024/02/Cattura.png
ORGANIZER;CN="NOVA%20Eroica":MAILTO:Info@novaerotica.it
END:VEVENT
BEGIN:VEVENT
DTSTART;VALUE=DATE:20260426
DTEND;VALUE=DATE:20260427
DTSTAMP:20260424T102855
CREATED:20221229T143523Z
LAST-MODIFIED:20251101T162122Z
UID:22955-1777161600-1777247999@www.gravel.it
SUMMARY:Nova Eroica Prosecco Hills
DESCRIPTION:
URL:https://www.gravel.it/evento-gravel/nova-eroica-prosecco-hills/
LOCATION:Conegliano
CATEGORIES:Gravel
ATTACH;FMTTYPE=image/png:https://www.gravel.it/wp-content/uploads/2022/12/Cattura-e1762014067636.png
ORGANIZER;CN="Nova%20Eroica%20Prosecco%20Hills":MAILTO:info@novaeroicaproseccohills.it
END:VEVENT
BEGIN:VEVENT
DTSTART;VALUE=DATE:20260426
DTEND;VALUE=DATE:20260427
DTSTAMP:20260424T102855
CREATED:20241202T143107Z
LAST-MODIFIED:20251101T155111Z
UID:32319-1777161600-1777247999@www.gravel.it
SUMMARY:TODI BAILEY GRAVEL
DESCRIPTION:
URL:https://www.gravel.it/evento-gravel/todi-bailey-gravel/
LOCATION:Todi
CATEGORIES:Gravel
ATTACH;FMTTYPE=image/png:https://www.gravel.it/wp-content/uploads/2024/12/Cattura-1.png
ORGANIZER;CN="Todi%20Bailey%20Gravel":MAILTO:info@todibaileygravel.it
END:VEVENT
BEGIN:VEVENT
DTSTART;VALUE=DATE:20260426
DTEND;VALUE=DATE:20260427
DTSTAMP:20260424T102855
CREATED:20251231T172329Z
LAST-MODIFIED:20251231T172329Z
UID:42059-1777161600-1777247999@www.gravel.it
SUMMARY:Gravel del Cardo
DESCRIPTION:
URL:https://www.gravel.it/evento-gravel/gravel-del-cardo/
LOCATION:AGLIE’
ATTACH;FMTTYPE=image/jpeg:https://www.gravel.it/wp-content/uploads/2025/07/IMG-20250717-WA0002.jpg
ORGANIZER;CN="Gravel%20del%20Cardo":MAILTO:gteventisportivi@gmail.com
END:VEVENT
BEGIN:VEVENT
DTSTART;VALUE=DATE:20260426
DTEND;VALUE=DATE:20260427
DTSTAMP:20260424T102855
CREATED:20251231T172841Z
LAST-MODIFIED:20251231T172841Z
UID:42063-1777161600-1777247999@www.gravel.it
SUMMARY:Sulle Orme degli Etruschi
DESCRIPTION:
URL:https://www.gravel.it/evento-gravel/sulle-orme-degli-etruschi/
LOCATION:Tarquinia\, Tarquinia\, Viterbo\, Italia
CATEGORIES:Gravel
ATTACH;FMTTYPE=image/jpeg:https://www.gravel.it/wp-content/uploads/2025/12/Sulle-orme-degli-etruschi-1024x1024-1.jpg
ORGANIZER;CN="Sulle%20Orme%20degli%20Etruschi":MAILTO:ormedeglietruschi@gmail.com
END:VEVENT
END:VCALENDAR