BEGIN:VCALENDAR
VERSION:2.0
PRODID:-//Gravel - ECPv5.8.1//NONSGML v1.0//EN
CALSCALE:GREGORIAN
METHOD:PUBLISH
X-WR-CALNAME:Gravel
X-ORIGINAL-URL:https://www.gravel.it
X-WR-CALDESC:Eventi per Gravel
BEGIN:VTIMEZONE
TZID:Europe/Paris
BEGIN:DAYLIGHT
TZOFFSETFROM:+0100
TZOFFSETTO:+0200
TZNAME:CEST
DTSTART:20260329T010000
END:DAYLIGHT
BEGIN:STANDARD
TZOFFSETFROM:+0200
TZOFFSETTO:+0100
TZNAME:CET
DTSTART:20261025T010000
END:STANDARD
END:VTIMEZONE
BEGIN:VEVENT
DTSTART;TZID=Europe/Paris:20260328T080000
DTEND;TZID=Europe/Paris:20260329T170000
DTSTAMP:20260424T130831
CREATED:20250210T174144Z
LAST-MODIFIED:20251227T173701Z
UID:34017-1774684800-1774803600@www.gravel.it
SUMMARY:TURIN HILLS
DESCRIPTION:
URL:https://www.gravel.it/evento-gravel/turin-hills/
LOCATION:Torino\, Torino\, Torino\, Italia
CATEGORIES:Gravel
ATTACH;FMTTYPE=image/png:https://www.gravel.it/wp-content/uploads/2024/02/Cattura.png
ORGANIZER;CN="TURIN%20HILLS":MAILTO:turinhills@gmail.com
END:VEVENT
BEGIN:VEVENT
DTSTART;VALUE=DATE:20260329
DTEND;VALUE=DATE:20260330
DTSTAMP:20260424T130831
CREATED:20251231T125913Z
LAST-MODIFIED:20251231T125913Z
UID:42043-1774742400-1774828799@www.gravel.it
SUMMARY:PedaLilt
DESCRIPTION:
URL:https://www.gravel.it/evento-gravel/pedalilt/
LOCATION:Lodi
ATTACH;FMTTYPE=image/jpeg:https://www.gravel.it/wp-content/uploads/2025/12/logo-pedalilt-1024x1014-1.jpg
ORGANIZER;CN="PedaLilt":MAILTO:marco.tede1975@alice.it
END:VEVENT
END:VCALENDAR