BEGIN:VCALENDAR
VERSION:2.0
PRODID:-//Gravel - ECPv5.8.1//NONSGML v1.0//EN
CALSCALE:GREGORIAN
METHOD:PUBLISH
X-WR-CALNAME:Gravel
X-ORIGINAL-URL:https://www.gravel.it
X-WR-CALDESC:Eventi per Gravel
BEGIN:VTIMEZONE
TZID:Europe/Paris
BEGIN:DAYLIGHT
TZOFFSETFROM:+0100
TZOFFSETTO:+0200
TZNAME:CEST
DTSTART:20260329T010000
END:DAYLIGHT
BEGIN:STANDARD
TZOFFSETFROM:+0200
TZOFFSETTO:+0100
TZNAME:CET
DTSTART:20261025T010000
END:STANDARD
END:VTIMEZONE
BEGIN:VEVENT
DTSTART;VALUE=DATE:20260328
DTEND;VALUE=DATE:20260329
DTSTAMP:20260424T114447
CREATED:20221223T175351Z
LAST-MODIFIED:20251101T153924Z
UID:22789-1774656000-1774742399@www.gravel.it
SUMMARY:Aquila Gravel
DESCRIPTION:
URL:https://www.gravel.it/evento-gravel/aquila-gravel/
LOCATION:Arcugnano
CATEGORIES:Gravel
ATTACH;FMTTYPE=image/jpeg:https://www.gravel.it/wp-content/uploads/2022/12/aquila-gravel-3-1079x570-1.jpg
ORGANIZER;CN="A.S.D.%20TEAM%20GRANFONDO%20LIOTTO":MAILTO:info@granfondoliotto.it
END:VEVENT
BEGIN:VEVENT
DTSTART;VALUE=DATE:20260328
DTEND;VALUE=DATE:20260329
DTSTAMP:20260424T114447
CREATED:20230115T143939Z
LAST-MODIFIED:20251101T161440Z
UID:23322-1774656000-1774742399@www.gravel.it
SUMMARY:Arezzo Gravel
DESCRIPTION:
URL:https://www.gravel.it/evento-gravel/arezzo-gravel/
LOCATION:Arezzo
CATEGORIES:Gravel
ATTACH;FMTTYPE=image/jpeg:https://www.gravel.it/wp-content/uploads/2025/07/IMG-20250717-WA0002.jpg
ORGANIZER;CN="ASD%20Gli%20Arditi%20del%20Ciclismo":MAILTO:info@arezzogravel.com
END:VEVENT
BEGIN:VEVENT
DTSTART;VALUE=DATE:20260328
DTEND;VALUE=DATE:20260329
DTSTAMP:20260424T114447
CREATED:20251225T132138Z
LAST-MODIFIED:20251225T132138Z
UID:41928-1774656000-1774742399@www.gravel.it
SUMMARY:THE HILLS gravel race
DESCRIPTION:
URL:https://www.gravel.it/evento-gravel/the-hills-gravel-race/
LOCATION:Susegana
ATTACH;FMTTYPE=image/png:https://www.gravel.it/wp-content/uploads/2024/02/Cattura.png
ORGANIZER;CN="XEVENT%20S.S.D.%20a%20r.l.":MAILTO:segreteria@xevent.bike
END:VEVENT
BEGIN:VEVENT
DTSTART;TZID=Europe/Paris:20260328T080000
DTEND;TZID=Europe/Paris:20260329T170000
DTSTAMP:20260424T114447
CREATED:20250210T174144Z
LAST-MODIFIED:20251227T173701Z
UID:34017-1774684800-1774803600@www.gravel.it
SUMMARY:TURIN HILLS
DESCRIPTION:
URL:https://www.gravel.it/evento-gravel/turin-hills/
LOCATION:Torino\, Torino\, Torino\, Italia
CATEGORIES:Gravel
ATTACH;FMTTYPE=image/png:https://www.gravel.it/wp-content/uploads/2024/02/Cattura.png
ORGANIZER;CN="TURIN%20HILLS":MAILTO:turinhills@gmail.com
END:VEVENT
END:VCALENDAR