BEGIN:VCALENDAR
VERSION:2.0
PRODID:-//Gravel - ECPv5.8.1//NONSGML v1.0//EN
CALSCALE:GREGORIAN
METHOD:PUBLISH
X-WR-CALNAME:Gravel
X-ORIGINAL-URL:https://www.gravel.it
X-WR-CALDESC:Eventi per Gravel
BEGIN:VTIMEZONE
TZID:Europe/Paris
BEGIN:DAYLIGHT
TZOFFSETFROM:+0100
TZOFFSETTO:+0200
TZNAME:CEST
DTSTART:20260329T010000
END:DAYLIGHT
BEGIN:STANDARD
TZOFFSETFROM:+0200
TZOFFSETTO:+0100
TZNAME:CET
DTSTART:20261025T010000
END:STANDARD
END:VTIMEZONE
BEGIN:VEVENT
DTSTART;TZID=Europe/Paris:20260224T080000
DTEND;TZID=Europe/Paris:20260303T170000
DTSTAMP:20260424T130807
CREATED:20260104T142609Z
LAST-MODIFIED:20260104T142609Z
UID:42286-1771920000-1772557200@www.gravel.it
SUMMARY:Lanzarote Bikepacking Experience vol. 3
DESCRIPTION:  \nUn viaggio di gruppo tra piste vulcaniche\, borghi di pescatori e paesaggi che sembrano provenire da un altro pianeta. Insieme a Francesco ed Elia\, le tue guide\, scoprirai gli angoli più autentici e spettacolari delle Canarie in sella a una bici carica di emozioni.Non una gara\, né una sfida contro il tempo: Lanzarote Bikepacking Experience è un viaggio di scoperta\, divertimento e condivisione. Ogni tappa è pensata per farti assaporare la bellezza del percorso\, con distanze e dislivelli equilibrati e tutto il comfort necessario per vivere al meglio l’avventura.In sette giorni pedalerai per circa 300 chilometri e 3.500 metri di dislivello\, attraversando panorami mozzafiato: dalle scogliere battute dal vento di Famara alle colline di Teguise\, dai vigneti di La Geria al silenzio lunare del Parque Nacional de Timanfaya. \n  \nPasserai per l’isola di La Graciosa\, raggiungerai lo spettacolare Mirador del Río e percorrerai le piste di ghiaia vulcanica fino a Órzola e al pittoresco sud di Lanzarote.Durante il viaggio non mancheranno momenti conviviali\, vino locale\, cibo fresco e tramonti che non dimenticherai il tutto accompagnato da un clima mite e quella brezza costante che è ormai il simbolo delle Canarie.
URL:https://www.gravel.it/evento-gravel/lanzarote-bikepacking-experience-vol-3/
LOCATION:Arrecife
ATTACH;FMTTYPE=image/jpeg:https://www.gravel.it/wp-content/uploads/2025/07/IMG-20250717-WA0002.jpg
ORGANIZER;CN="Cyclo%20Ergo%20Sum":MAILTO:info@cycloergosum.com
END:VEVENT
BEGIN:VEVENT
DTSTART;VALUE=DATE:20260228
DTEND;VALUE=DATE:20260301
DTSTAMP:20260424T130807
CREATED:20241230T135424Z
LAST-MODIFIED:20251101T153309Z
UID:32935-1772236800-1772323199@www.gravel.it
SUMMARY:G.round Padova
DESCRIPTION:
URL:https://www.gravel.it/evento-gravel/g-round-padova/
LOCATION:Padova
ATTACH;FMTTYPE=image/png:https://www.gravel.it/wp-content/uploads/2024/12/Cattura-6.png
ORGANIZER;CN="ASD%20BBP%20GRAVEL%20FIRENZE":MAILTO:sterroappalla@gmail.com
END:VEVENT
BEGIN:VEVENT
DTSTART;TZID=Europe/Paris:20260228T080000
DTEND;TZID=Europe/Paris:20260301T170000
DTSTAMP:20260424T130807
CREATED:20251225T130030Z
LAST-MODIFIED:20251225T130030Z
UID:41907-1772265600-1772384400@www.gravel.it
SUMMARY:Ferrara Gravel Expo Bike
DESCRIPTION:
URL:https://www.gravel.it/evento-gravel/ferrara-gravel-expo-bike/
LOCATION:Ferrara\, Ferrara\, Ferrara\, Italia
ATTACH;FMTTYPE=image/png:https://www.gravel.it/wp-content/uploads/2025/12/LOGHI-EVENTI-2026-30-1.png
END:VEVENT
END:VCALENDAR