BEGIN:VCALENDAR
VERSION:2.0
PRODID:-//Gravel - ECPv5.8.1//NONSGML v1.0//EN
CALSCALE:GREGORIAN
METHOD:PUBLISH
X-WR-CALNAME:Gravel
X-ORIGINAL-URL:https://www.gravel.it
X-WR-CALDESC:Eventi per Gravel
BEGIN:VTIMEZONE
TZID:Europe/Paris
BEGIN:DAYLIGHT
TZOFFSETFROM:+0100
TZOFFSETTO:+0200
TZNAME:CEST
DTSTART:20260329T010000
END:DAYLIGHT
BEGIN:STANDARD
TZOFFSETFROM:+0200
TZOFFSETTO:+0100
TZNAME:CET
DTSTART:20261025T010000
END:STANDARD
END:VTIMEZONE
BEGIN:VEVENT
DTSTART;TZID=Europe/Paris:20260221T080000
DTEND;TZID=Europe/Paris:20260222T170000
DTSTAMP:20260424T130847
CREATED:20251225T130256Z
LAST-MODIFIED:20251225T130256Z
UID:41910-1771660800-1771779600@www.gravel.it
SUMMARY:Laigueglia Gravel
DESCRIPTION:
URL:https://www.gravel.it/evento-gravel/laigueglia-gravel/
LOCATION:Laigueglia\, Laigueglia                            \, Savona\, Italia
CATEGORIES:Gravel
ATTACH;FMTTYPE=image/jpeg:https://www.gravel.it/wp-content/uploads/2025/12/LAIGUEGLIA-GRAVEL-2026-BOOST-EVENTS-2-1536x1152-1.jpg
END:VEVENT
BEGIN:VEVENT
DTSTART;VALUE=DATE:20260222
DTEND;VALUE=DATE:20260223
DTSTAMP:20260424T130847
CREATED:20250210T173158Z
LAST-MODIFIED:20251101T153150Z
UID:34010-1771718400-1771804799@www.gravel.it
SUMMARY:Memorial Luigi Perletti
DESCRIPTION:
URL:https://www.gravel.it/evento-gravel/memorial-luigi-perletti/
LOCATION:Lodi
CATEGORIES:Gravel
ATTACH;FMTTYPE=image/jpeg:https://www.gravel.it/wp-content/uploads/2025/07/IMG-20250717-WA0007.jpg
ORGANIZER;CN="Passione%20gravel%20-%20strade%20basse%20lodigiane":MAILTO:passionegravel@gmail.com
END:VEVENT
BEGIN:VEVENT
DTSTART;VALUE=DATE:20260222
DTEND;VALUE=DATE:20260223
DTSTAMP:20260424T130847
CREATED:20251225T125621Z
LAST-MODIFIED:20251225T125621Z
UID:41903-1771718400-1771804799@www.gravel.it
SUMMARY:Randonnee La Giora Freida
DESCRIPTION:
URL:https://www.gravel.it/evento-gravel/randonnee-la-giora-freida/
LOCATION:Barge
ATTACH;FMTTYPE=image/jpeg:https://www.gravel.it/wp-content/uploads/2024/02/Cattura-14.jpg
ORGANIZER;CN="MONVISO%20BIKE%20asd":MAILTO:info@monvisobike.it
END:VEVENT
BEGIN:VEVENT
DTSTART;VALUE=DATE:20260222
DTEND;VALUE=DATE:20260223
DTSTAMP:20260424T130848
CREATED:20251231T124338Z
LAST-MODIFIED:20251231T124338Z
UID:42027-1771718400-1771804799@www.gravel.it
SUMMARY:CO.VA.MI. Gravel ride
DESCRIPTION:
URL:https://www.gravel.it/evento-gravel/co-va-mi-gravel-ride/
LOCATION:Rescaldina
CATEGORIES:Gravel
ATTACH;FMTTYPE=image/png:https://www.gravel.it/wp-content/uploads/2025/12/Screenshot-2025-12-04-alle-14.46.12.png
ORGANIZER;CN="CO.VA.MI.%20Gravel%20ride":MAILTO:service@mrdbike.it
END:VEVENT
BEGIN:VEVENT
DTSTART;VALUE=DATE:20260222
DTEND;VALUE=DATE:20260223
DTSTAMP:20260424T130848
CREATED:20251231T124809Z
LAST-MODIFIED:20251231T124809Z
UID:42032-1771718400-1771804799@www.gravel.it
SUMMARY:CUSTOZABIKE
DESCRIPTION:
URL:https://www.gravel.it/evento-gravel/custozabike/
LOCATION:Custoza di Sommacampagna
ATTACH;FMTTYPE=image/jpeg:https://www.gravel.it/wp-content/uploads/2025/07/IMG-20250717-WA0002.jpg
ORGANIZER;CN="CUSTOZABIKE":MAILTO:mail@bike-team.it
END:VEVENT
END:VCALENDAR