BEGIN:VCALENDAR
VERSION:2.0
PRODID:-//Gravel - ECPv5.8.1//NONSGML v1.0//EN
CALSCALE:GREGORIAN
METHOD:PUBLISH
X-WR-CALNAME:Gravel
X-ORIGINAL-URL:https://www.gravel.it
X-WR-CALDESC:Eventi per Gravel
BEGIN:VTIMEZONE
TZID:Europe/Paris
BEGIN:DAYLIGHT
TZOFFSETFROM:+0100
TZOFFSETTO:+0200
TZNAME:CEST
DTSTART:20260329T010000
END:DAYLIGHT
BEGIN:STANDARD
TZOFFSETFROM:+0200
TZOFFSETTO:+0100
TZNAME:CET
DTSTART:20261025T010000
END:STANDARD
END:VTIMEZONE
BEGIN:VEVENT
DTSTART;VALUE=DATE:20260125
DTEND;VALUE=DATE:20260126
DTSTAMP:20260424T225248
CREATED:20221229T140549Z
LAST-MODIFIED:20251101T152705Z
UID:22938-1769299200-1769385599@www.gravel.it
SUMMARY:La Classica L'Artica
DESCRIPTION:
URL:https://www.gravel.it/evento-gravel/la-classica-lartica/
LOCATION:Lonigo
CATEGORIES:Gravel
ATTACH;FMTTYPE=image/jpeg:https://www.gravel.it/wp-content/uploads/2022/12/Cattura-19-e1762010803724.jpg
ORGANIZER;CN="L%27Artica":MAILTO:info@lartica.it
END:VEVENT
END:VCALENDAR