BEGIN:VCALENDAR
VERSION:2.0
PRODID:-//Gravel - ECPv5.8.1//NONSGML v1.0//EN
CALSCALE:GREGORIAN
METHOD:PUBLISH
X-WR-CALNAME:Gravel
X-ORIGINAL-URL:https://www.gravel.it
X-WR-CALDESC:Eventi per Gravel
BEGIN:VTIMEZONE
TZID:Europe/Paris
BEGIN:DAYLIGHT
TZOFFSETFROM:+0100
TZOFFSETTO:+0200
TZNAME:CEST
DTSTART:20260329T010000
END:DAYLIGHT
BEGIN:STANDARD
TZOFFSETFROM:+0200
TZOFFSETTO:+0100
TZNAME:CET
DTSTART:20261025T010000
END:STANDARD
END:VTIMEZONE
BEGIN:VEVENT
DTSTART;VALUE=DATE:20260111
DTEND;VALUE=DATE:20260112
DTSTAMP:20260425T173347
CREATED:20221229T135847Z
LAST-MODIFIED:20251101T152847Z
UID:22934-1768089600-1768175999@www.gravel.it
SUMMARY:La Glaciale Urban Gravel
DESCRIPTION:
URL:https://www.gravel.it/evento-gravel/la-glaciale-urban-gravel/
LOCATION:Settimo Milanese
CATEGORIES:Gravel
ATTACH;FMTTYPE=image/jpeg:https://www.gravel.it/wp-content/uploads/2022/12/Cattura-17.jpg
ORGANIZER;CN="GRAvel%20lAND":MAILTO:info@gravelland.it
END:VEVENT
BEGIN:VEVENT
DTSTART;VALUE=DATE:20260111
DTEND;VALUE=DATE:20260112
DTSTAMP:20260425T173347
CREATED:20251225T125236Z
LAST-MODIFIED:20251225T125236Z
UID:41899-1768089600-1768175999@www.gravel.it
SUMMARY:Social Ride Brulé in Cantina
DESCRIPTION:
URL:https://www.gravel.it/evento-gravel/social-ride-brule-in-cantina/
LOCATION:Spresiano
CATEGORIES:Gravel
ATTACH;FMTTYPE=image/png:https://www.gravel.it/wp-content/uploads/2025/12/763c5bc5-48bc-443f-b7a3-e57e6ac4eef4.png
END:VEVENT
BEGIN:VEVENT
DTSTART;VALUE=DATE:20260111
DTEND;VALUE=DATE:20260112
DTSTAMP:20260425T173347
CREATED:20251231T111637Z
LAST-MODIFIED:20251231T111637Z
UID:42014-1768089600-1768175999@www.gravel.it
SUMMARY:Winter Bike Day
DESCRIPTION:
URL:https://www.gravel.it/evento-gravel/winter-bike-day-2/
LOCATION:San Colombano al Lambro
CATEGORIES:Gravel
ATTACH;FMTTYPE=image/png:https://www.gravel.it/wp-content/uploads/2024/02/Cattura.png
END:VEVENT
END:VCALENDAR